BEGIN:VCALENDAR
VERSION:2.0
PRODID:-//ChamberMaster//Event Calendar 2.0//EN
METHOD:PUBLISH
X-PUBLISHED-TTL:P3D
REFRESH-INTERVAL:P3D
CALSCALE:GREGORIAN
BEGIN:VEVENT
DTSTART:20161024T190000Z
DTEND:20161026T000000Z
X-MICROSOFT-CDO-ALLDAYEVENT:FALSE
SUMMARY:European Wax Center Lake Mary! Flaunt It\, Don't Haunt It Event! Oct 24th-25th 3-8
DESCRIPTION:Come see us for a First Time Guest Free Wax! \n\nBring a friend and receive $5.00 off any service!\n\nTreat yourself to Halloween mocktails and treats!!
X-ALT-DESC;FMTTYPE=text/html:Come see us for a First Time Guest Free Wax!&nbsp\;<br />\nBring a friend and receive $5.00 off any service!<br />\nTreat yourself to Halloween mocktails and treats!!&nbsp\;
LOCATION:European Wax Center Lake Mary 3809 Lake Emma Rd. Lake Mary FL 32746 407-917-6070
UID:e.2138.5733
SEQUENCE:3
DTSTAMP:20260425T165322Z
URL:https://business.seminolebusiness.org/events/details/european-wax-center-lake-mary-flaunt-it-don-t-haunt-it-event-oct-24th-25th-3-8-5733
END:VEVENT

END:VCALENDAR
