BEGIN:VCALENDAR
VERSION:2.0
PRODID:-//ChamberMaster//Event Calendar 2.0//EN
METHOD:PUBLISH
X-PUBLISHED-TTL:P3D
REFRESH-INTERVAL:P3D
CALSCALE:GREGORIAN
BEGIN:VEVENT
DTSTART:20250805T220000Z
DTEND:20250805T233000Z
X-MICROSOFT-CDO-ALLDAYEVENT:FALSE
SUMMARY:Expedia Cruises Presents NCL Cocktails & Cruising: More At Sea - Norwegian’s Most Inclusive Package
DESCRIPTION:Expedia Cruises Presents NCL Cocktails & Cruising: More At Sea - Norwegian's Most Inclusive Package\n			\n		\n	\n\n\n\n	\n		\n			\n			Beverages & hors d'oeuvre's served! NCL & Expedia Cruises raffles!\n\n			\n\n			*Unlimited Open Bar: Enjoy unlimited premium spirits\, cocktails\, wines\, draft beer\, juice and soda\n\n			\n\n			*Specialty Dinning: 3 specialty dinning meals included + order up to three appetizers and three desserts\n\n			\n\n			*Wi-Fi Package: More minutes and speed with high-speed Wi-Fi powered by Starlink\n\n			\n\n			*Excursion Credit: $50.00 credit at each port you visit on every NCL tour\n\n			\n\n			*Fun For the Entire Family: Bring the Kids along for FREE\n\n			\n\n			*FREE Airfare for 2nd Guest\n\n			\n\n			+\n\n			\n\n			*EXPEDIA CRUISES EXCLUSIVE OFFER: PRE-PAID GRATUITIES\n\n			\n\n			*terms & conditions apply
X-ALT-DESC;FMTTYPE=text/html:<table border="0" cellpadding="0" cellspacing="0" class="text text--heading text--padding-vertical" style="background-color:rgb(255\, 255\, 255)\; color:rgb(0\, 0\, 0)\; table-layout:fixed\; width:100%">\n	<tbody>\n		<tr>\n			<td>\n			<h1 style="text-align:center"><strong>Expedia Cruises Presents NCL Cocktails &amp\; Cruising: More At Sea - Norwegian&rsquo\;s Most Inclusive Package</strong></h1>\n			</td>\n		</tr>\n	</tbody>\n</table>\n\n<table border="0" cellpadding="0" cellspacing="0" class="text text--article text--padding-vertical" style="background-color:rgb(255\, 255\, 255)\; color:rgb(0\, 0\, 0)\; table-layout:fixed\; width:100%">\n	<tbody>\n		<tr>\n			<td>\n			<p style="text-align:center"><span style="font-size:16px">Beverages &amp\; hors d&#39\;oeuvre&#39\;s served! NCL &amp\; Expedia Cruises raffles!<br />\n			<br />\n			<strong>*Unlimited Open Bar:</strong> Enjoy unlimited premium spirits\, cocktails\, wines\, draft beer\, juice and soda<br />\n			<br />\n			<strong>*Specialty Dinning:</strong> 3 specialty dinning meals included + order up to three appetizers and three desserts<br />\n			<br />\n			<strong>*Wi-Fi Package:</strong> More minutes and speed with high-speed Wi-Fi powered by Starlink<br />\n			<br />\n			<strong>*Excursion Credit:</strong> $50.00 credit at each port you visit on every NCL tour<br />\n			<br />\n			*Fun For the Entire Family: Bring the Kids along for <strong>FREE</strong><br />\n			<br />\n			<strong>*FREE</strong> Airfare for 2nd Guest<br />\n			<br />\n			<span style="font-size:20px"><strong>+</strong></span><br />\n			<br />\n			<em>*EXPEDIA CRUISES EXCLUSIVE OFFER:</em> <strong>PRE-PAID GRATUITIES</strong><br />\n			<br />\n			<span style="font-size:12px">*terms &amp\; conditions apply</span></span></p>\n			</td>\n		</tr>\n	</tbody>\n</table>\n
LOCATION:Expedia Cruises Longwood 1877 W State Rd 434\, Longwood\, FL 32750 View on map
UID:e.2138.37828
SEQUENCE:3
DTSTAMP:20260423T085224Z
URL:https://business.seminolebusiness.org/events/details/expedia-cruises-presents-ncl-cocktails-cruising-more-at-sea-norwegian-s-most-inclusive-package-37828
END:VEVENT

END:VCALENDAR
