BEGIN:VCALENDAR
VERSION:2.0
PRODID:-//ChamberMaster//Event Calendar 2.0//EN
METHOD:PUBLISH
X-PUBLISHED-TTL:P3D
REFRESH-INTERVAL:P3D
CALSCALE:GREGORIAN
BEGIN:VEVENT
DTSTART:20190201T130000Z
DTEND:20190201T140000Z
X-MICROSOFT-CDO-ALLDAYEVENT:FALSE
SUMMARY:Experience Crooms
DESCRIPTION:Please be our guest and join us for a behind the scenes tour of Crooms AOIT! See why everyone is talking about the school and our students! During this tour you will experience the passion in the students and staff and why so many Seminole County Businesses have joined our Business Advisory Council. It is because of the dedication of this council and of the staff and students that propels Crooms into a Magnet School of their own. \n\n\n\nThis is Free to Attend please just register at CroomsBAC.org under the calendar and select Experience Crooms for February 1st\, 2019. \n\n\n\nWe hope to see you there!
X-ALT-DESC;FMTTYPE=text/html:Please be our guest and join us for a behind the scenes tour of Crooms AOIT! See why everyone is talking about the school and our students! During this tour you will experience the passion in the students and staff and why so many Seminole County Businesses have joined our Business Advisory Council. It is because of the dedication of this council and of the staff and students that propels Crooms into a Magnet School of their own.&nbsp\;<br />\n<br />\nThis is Free to Attend please just register at CroomsBAC.org under the calendar and select Experience Crooms for February 1st\, 2019.&nbsp\;<br />\n<br />\nWe hope to see you there!&nbsp\;
LOCATION:2200 West Historic Goldsboro Blvd. Sanford\, FL 32771
UID:e.2138.14887
SEQUENCE:3
DTSTAMP:20260424T103203Z
URL:https://business.seminolebusiness.org/events/details/experience-crooms-14887
END:VEVENT

END:VCALENDAR
