BEGIN:VCALENDAR
VERSION:2.0
PRODID:-//ChamberMaster//Event Calendar 2.0//EN
METHOD:PUBLISH
X-PUBLISHED-TTL:P3D
REFRESH-INTERVAL:P3D
CALSCALE:GREGORIAN
BEGIN:VEVENT
DTSTART:20181003T173000Z
DTEND:20181003T183000Z
X-MICROSOFT-CDO-ALLDAYEVENT:FALSE
SUMMARY:Experiencing Memory Loss? Join the Conversation
DESCRIPTION:Did you know that 1 in 10 people age 65 and older has Alzheimer's dementia? If you or a loved one is experiencing memory loss\, join Bioclinica Research to discuss what's normal aging memory loss. First-time diagnosis of Alzheimer's and new research opportunities available.\n\n\n\nRSVP to Concierge at 407-322-2207
X-ALT-DESC;FMTTYPE=text/html:<p>Did you know that 1 in 10 people age 65 and older has Alzheimer&rsquo\;s dementia? If you or a loved one is experiencing memory loss\, join <strong><em>Bioclinica Research </em></strong>to discuss what&rsquo\;s normal aging memory loss. First-time diagnosis of Alzheimer&rsquo\;s and new research opportunities available.<br />\n<br />\nRSVP to Concierge at 407-322-2207</p>\n
LOCATION:Atria Park of Lake Forest 5433 W. State Rd. 46 Sanford\, FL 32771 407-322-2207
UID:e.2138.14431
SEQUENCE:3
DTSTAMP:20260424T022803Z
URL:https://business.seminolebusiness.org/events/details/experiencing-memory-loss-join-the-conversation-14431
END:VEVENT

END:VCALENDAR
