BEGIN:VCALENDAR
VERSION:2.0
PRODID:-//ChamberMaster//Event Calendar 2.0//EN
METHOD:PUBLISH
X-PUBLISHED-TTL:P3D
REFRESH-INTERVAL:P3D
CALSCALE:GREGORIAN
BEGIN:VEVENT
DTSTART:20251004T140000Z
DTEND:20251004T170000Z
X-MICROSOFT-CDO-ALLDAYEVENT:FALSE
SUMMARY:Fall Festival & Trunk or Treat at The J Douglas Williams YMCA\, Lake Mary
DESCRIPTION:Join us for a spooktacular Fall Festival at J Douglas Williams YMCA on Saturday\, October 4th\, from 10 AM 1 PM! ???? Enjoy face painting\, fall crafts\, trunk-or-treating\, and more fun family activities. Don't forget your costume and a treat bag   it's going to be so much fun!
X-ALT-DESC;FMTTYPE=text/html:<p><strong>Join us for a spooktacular Fall Festival at J Douglas Williams YMCA on Saturday\, October 4th\, from 10 AM&ndash\;1 PM! ???? Enjoy face painting\, fall crafts\, trunk-or-treating\, and more fun family activities. Don&rsquo\;t forget your costume and a treat bag &mdash\; it&rsquo\;s going to be so much fun!</strong></p>\n\n<p>&nbsp\;</p>\n
LOCATION:J Douglas Williams YMCA 665 Longwood Lake Mary Rd Lake Mary\, FL 32746
UID:e.2138.38748
SEQUENCE:3
DTSTAMP:20260423T054215Z
URL:https://business.seminolebusiness.org/events/details/fall-festival-trunk-or-treat-at-the-j-douglas-williams-ymca-lake-mary-38748
END:VEVENT

END:VCALENDAR
