BEGIN:VCALENDAR
VERSION:2.0
PRODID:-//ChamberMaster//Event Calendar 2.0//EN
METHOD:PUBLISH
X-PUBLISHED-TTL:P3D
REFRESH-INTERVAL:P3D
CALSCALE:GREGORIAN
BEGIN:VEVENT
DTSTART:20170429T180000Z
DTEND:20170429T220000Z
X-MICROSOFT-CDO-ALLDAYEVENT:FALSE
SUMMARY:Family Fun Day - Lake Mary Arts & Fitness Center Grand Opening Celebration!
DESCRIPTION:Tours of the facility\n	Martial Arts\, Dance\, & Fitness Activities\n	Food Trucks\, Entertainment\, Bounce Houses\n	Face Painting\, Caricature Artist\n	Prizes\, Raffles\n	Local Vendors\n	So much more!
X-ALT-DESC;FMTTYPE=text/html:<ul>\n	<li>Tours of the facility</li>\n	<li>Martial Arts\, Dance\, &amp\; Fitness Activities</li>\n	<li>Food Trucks\, Entertainment\, Bounce Houses</li>\n	<li>Face Painting\, Caricature Artist</li>\n	<li>Prizes\, Raffles</li>\n	<li>Local Vendors</li>\n	<li>So much more!</li>\n</ul>\n
LOCATION:905 Williston Park Place Lake Mary\, Fl 32746
UID:e.2138.6730
SEQUENCE:3
DTSTAMP:20260423T194153Z
URL:https://business.seminolebusiness.org/events/details/family-fun-day-lake-mary-arts-fitness-center-grand-opening-celebration-6730
END:VEVENT

END:VCALENDAR
