BEGIN:VCALENDAR
VERSION:2.0
PRODID:-//ChamberMaster//Event Calendar 2.0//EN
METHOD:PUBLISH
X-PUBLISHED-TTL:P3D
REFRESH-INTERVAL:P3D
CALSCALE:GREGORIAN
BEGIN:VEVENT
DTSTART:20181205T200000Z
DTEND:20181205T230000Z
X-MICROSOFT-CDO-ALLDAYEVENT:FALSE
SUMMARY:Festival of Trees
DESCRIPTION:Celebrate the Season with Our FESTIVAL OF TREES\n\n\n'Tis the Season\n\nCome enjoy the beautiful sights and sounds of an "Old-Fashioned" Christmas. Sit on Santa's\n\nlap\, sip hot cocoa and nibble on Christmas cookies as you stroll through our winter\n\nwonderland.\n\nGuests can forego the long lines at the mall's Christmas Bazaar and participate in drawings to\n\nwin one of the stunning Christmas trees donated by our local partners.\n\nAll proceeds from this event will be donated to Make-A-Wish!
X-ALT-DESC;FMTTYPE=text/html:<p><span style="font-family: comic sans ms\;"><span style="font-size: 16px\;"><span style="font-family: verdana\;">Celebrate the Season with Our FESTIVAL OF TREES</span></span></span></p>\n<br />\n<span style="font-family: comic sans ms\;"><span style="font-size: 16px\;">&#39\;Tis the Season</span></span>\n\n<p><strong>Come enjoy the beautiful sights and sounds of an &quot\;Old-Fashioned&quot\; Christmas. Sit on Santa&#39\;s</strong></p>\n\n<p><strong>lap\, sip hot cocoa and nibble on Christmas cookies as you stroll through our winter</strong></p>\n\n<p><strong>wonderland.</strong></p>\n\n<p><strong>Guests can forego the long lines at the mall&#39\;s Christmas Bazaar and participate in drawings to</strong></p>\n\n<p><strong>win one of the stunning Christmas trees donated by our local partners.</strong></p>\n\n<p><strong>All proceeds from this event will be donated to Make-A-Wish!</strong></p>\n
LOCATION:Brookdale Island Lake 160 Islander Court Longwood\, FL 32750 (407) 767-6600
UID:e.2138.14818
SEQUENCE:3
DTSTAMP:20260423T232551Z
URL:https://business.seminolebusiness.org/events/details/festival-of-trees-14818
END:VEVENT

END:VCALENDAR
