BEGIN:VCALENDAR
VERSION:2.0
PRODID:-//ChamberMaster//Event Calendar 2.0//EN
METHOD:PUBLISH
X-PUBLISHED-TTL:P3D
REFRESH-INTERVAL:P3D
CALSCALE:GREGORIAN
BEGIN:VEVENT
DTSTART:20180711T210000Z
DTEND:20180712T000000Z
X-MICROSOFT-CDO-ALLDAYEVENT:FALSE
SUMMARY:FICPA Volusia County Chapter - Asset Protection Seminars
DESCRIPTION:Attorneys Gary A. Forster and Eric C. Boughman present the following 2 seminars: \n\n\n	If It Sounds Too Good To Be True\, It Probably Is\n	Know Who (And How) to Trust
X-ALT-DESC;FMTTYPE=text/html:<div>Attorneys Gary A. Forster and Eric C. Boughman present the following 2 seminars:&nbsp\;</div>\n\n<ul>\n	<li><em>If It Sounds Too Good To Be True\, It Probably Is</em></li>\n	<li><em>Know Who (And How) to Trust</em></li>\n</ul>\n<br />\n&nbsp\;
LOCATION:LPGA International 1000 Champions Drive\, Daytona Beach\, Florida 32124
UID:e.2138.9462
SEQUENCE:3
DTSTAMP:20260424T065513Z
URL:https://business.seminolebusiness.org/events/details/ficpa-9462
END:VEVENT

END:VCALENDAR
