BEGIN:VCALENDAR
VERSION:2.0
PRODID:-//ChamberMaster//Event Calendar 2.0//EN
METHOD:PUBLISH
X-PUBLISHED-TTL:P3D
REFRESH-INTERVAL:P3D
CALSCALE:GREGORIAN
BEGIN:VEVENT
DTSTART:20180626T193000Z
DTEND:20180626T223000Z
X-MICROSOFT-CDO-ALLDAYEVENT:FALSE
SUMMARY:FICPA Brevard County Chapter - Asset Protection & Transfer Assets
DESCRIPTION:Attorneys Gary A. Forster and Eric C. Boughman present the following 3 seminars: \n\n	Don't Do "Asset Protection"\n	You May Transfer Assets Freely (But Not Really)\n	Cryptocurrencies
X-ALT-DESC;FMTTYPE=text/html:Attorneys Gary A. Forster and Eric C. Boughman present the following 3 seminars:&nbsp\;\n<ul>\n	<li><em>Don&#39\;t Do &quot\;Asset Protection&quot\;</em></li>\n	<li><em>You May Transfer Assets&nbsp\;</em><em>Freely (But Not Really)</em></li>\n	<li><em>Cryptocurrencies</em></li>\n</ul>\n
LOCATION:Merrill Lynch Offices 6525 3rd Street\, 4th Floor Rockledge\, FL 32955
UID:e.2138.9461
SEQUENCE:3
DTSTAMP:20260424T083619Z
URL:https://business.seminolebusiness.org/events/details/ficpa-brevard-county-chapter-asset-protection-transfer-assets-9461
END:VEVENT

END:VCALENDAR
