BEGIN:VCALENDAR
VERSION:2.0
PRODID:-//ChamberMaster//Event Calendar 2.0//EN
METHOD:PUBLISH
X-PUBLISHED-TTL:P3D
REFRESH-INTERVAL:P3D
CALSCALE:GREGORIAN
BEGIN:VEVENT
DTSTART:20180719T193000Z
DTEND:20180719T223000Z
X-MICROSOFT-CDO-ALLDAYEVENT:FALSE
SUMMARY:FICPA Central Florida Chapter - Latest Trends in Asset Protection: Domestic Asset Protection Methods\, Cryptocurrencies\, and Foreign Trusts
DESCRIPTION:Attorneys Gary A. Forster and Eric C. Boughman present one of their newest seminars to the FICPA Central Florida Chapter - Latest Trends in Asset Protection: Domestic Asset Protection Methods\, Cryptocurrencies\, and Foreign Trusts
X-ALT-DESC;FMTTYPE=text/html:Attorneys Gary A. Forster and Eric C. Boughman present&nbsp\;one of their newest seminars to the FICPA Central Florida Chapter - <em>Latest Trends in Asset Protection: Domestic Asset Protection Methods\, Cryptocurrencies\, and Foreign Trusts</em>
LOCATION:Doubletree Hotel 60 South Ivanhoe Boulevard Orlando\, Florida 32804
UID:e.2138.9463
SEQUENCE:3
DTSTAMP:20260424T070139Z
URL:https://business.seminolebusiness.org/events/details/ficpa-central-florida-chapter-latest-trends-in-asset-protection-domestic-asset-protection-methods-cryptocurrencies-and-foreign-trusts-9463
END:VEVENT

END:VCALENDAR
