BEGIN:VCALENDAR
VERSION:2.0
PRODID:-//ChamberMaster//Event Calendar 2.0//EN
METHOD:PUBLISH
X-PUBLISHED-TTL:P3D
REFRESH-INTERVAL:P3D
CALSCALE:GREGORIAN
BEGIN:VEVENT
DTSTART:20161130T000000Z
DTEND:20161130T020000Z
X-MICROSOFT-CDO-ALLDAYEVENT:FALSE
SUMMARY:Financial Chat & Chew Event
DESCRIPTION:Every next level of your life will demand a different version of you.  You must learn a new way to think before you can master a new way to be.  Learn the money game and be prepared.  Learn to save\, plan for emergencies\, know how much you need for retirement\, plan for long term care and know what the wealthy know. \n\n\n\nWe are on a mission to spread Financial Literacy!  Join us and learn how money works during our "Financial Chat" and after network with others and enjoy appetizers during our "Chew". \n\n\n\nSet a reminder on your calendar and don't miss out!!  Limited Seating Reserve Now!!\n\n\n\nAGENDA\n\n7:00pm -  7:15pm  Registration & Chew\n\n7:15pm - 8:00pm   Presentation & Chat\n\n8:00pm - 9:00pm   Networking & Chew
X-ALT-DESC;FMTTYPE=text/html:<br />\nEvery next level of your life will demand a different version of you.&nbsp\; You must learn a new way to think before you can master a new way to be.&nbsp\; Learn the money game and be prepared.&nbsp\; Learn to save\, plan for emergencies\, know how much you need for retirement\, plan for long term care and know what the wealthy know.&nbsp\;<br />\n<br />\nWe are on a mission to spread <u><strong>Financial Literacy</strong></u>!&nbsp\; Join us and&nbsp\;learn how money works during our &quot\;<u><em><strong>Financial Chat</strong></em></u>&quot\; and after network with others and enjoy appetizers during our &quot\;<u><strong>Chew</strong></u>&quot\;.&nbsp\;<br />\n<br />\n<strong>Set a reminder on your calendar and don&#39\;t miss out!!&nbsp\; <u>Limited Seating Reserve Now</u>!!</strong><br />\n<br />\n<u><strong>AGENDA</strong></u><br />\n7:00pm&nbsp\;- &nbsp\;7:15pm&nbsp\; Registration &amp\; Chew<br />\n7:15pm&nbsp\;- 8:00pm&nbsp\; &nbsp\;Presentation &amp\; Chat<br />\n8:00pm&nbsp\;- 9:00pm&nbsp\;&nbsp\;&nbsp\;Networking &amp\;&nbsp\;Chew
LOCATION:Cork & Olive 1061 S. Sun Drive #1009 Lake Mary\, FL 32746 (407) 323-0555
UID:e.2138.5755
SEQUENCE:3
DTSTAMP:20260425T150312Z
URL:https://business.seminolebusiness.org/events/details/financial-chat-chew-event-5755
END:VEVENT

END:VCALENDAR
