BEGIN:VCALENDAR
VERSION:2.0
PRODID:-//ChamberMaster//Event Calendar 2.0//EN
METHOD:PUBLISH
X-PUBLISHED-TTL:P3D
REFRESH-INTERVAL:P3D
CALSCALE:GREGORIAN
BEGIN:VEVENT
DTSTART:20170531T190000Z
DTEND:20170531T203000Z
X-MICROSOFT-CDO-ALLDAYEVENT:FALSE
SUMMARY:Ortiz CPA & Company Complete Business Solutions Presents: Financial Goals and Easy Bookkeeping
DESCRIPTION:Ortiz CPA & Company Complete Business Solutions has been asked by UCF Business Incubation Programs to present their Financial Goals and Easy Bookkeeping workshop.\n\n\n\nDo you need guidance with cash flow management? Do you need some ideas on how to increase your revenue? Do you feel like you're missing opportunities to maximize profit? Are you a non-accountant looking for tips and tricks to help you easily maneuver through QuickBooks? If so\, you need to attend this workshop! Register for FREE at https://incubator.ucf.edu/financial-goals-and-easy-bookkeeping/\nWhat you will learn in this seminar:\n\nCursory review on the following three goals:\n\n\n	Improve Cash Flow\n	Increase Revenue\n	Maximize Profit\n\nHow to keep your online QuickBooks real-time at all times. Understand how to properly setup your chart of accounts.
X-ALT-DESC;FMTTYPE=text/html:Ortiz CPA &amp\; Company Complete Business Solutions has been asked by UCF Business Incubation Programs to present their Financial Goals and Easy Bookkeeping workshop.<br />\n<br />\n<span style="color:rgb(68\, 68\, 68)\; font-family:open sans\,helveticaneue\,helvetica neue\,helvetica\,arial\,sans-serif\; font-size:14px">Do you need guidance with cash flow management? Do you need some ideas on how to increase your revenue? Do you feel like you&rsquo\;re&nbsp\;missing opportunities to maximize profit? Are you a non-accountant&nbsp\;looking for tips and tricks to help you easily maneuver through&nbsp\;QuickBooks? If so\, you need to attend this workshop! Register for FREE at&nbsp\;</span>https://incubator.ucf.edu/financial-goals-and-easy-bookkeeping/\n<p><strong>What you will learn in this seminar:</strong><br />\nCursory review on the following three goals:</p>\n\n<ul>\n	<li>Improve Cash Flow</li>\n	<li>Increase Revenue</li>\n	<li>Maximize Profit</li>\n</ul>\n<span style="color:rgb(68\, 68\, 68)\; font-family:open sans\,helveticaneue\,helvetica neue\,helvetica\,arial\,sans-serif\; font-size:14px">How to keep your online QuickBooks real-time at all times.&nbsp\;Understand how to properly setup your chart of accounts.</span>
LOCATION:UCF Business Incubator Kissimmee 111 E. Monument Ave.\, Suite 401 Kissimmee\, FL 34741
UID:e.2138.6743
SEQUENCE:3
DTSTAMP:20260423T223223Z
URL:https://business.seminolebusiness.org/events/details/financial-goals-and-easy-bookkeeping-workshop-6743
END:VEVENT

END:VCALENDAR
