BEGIN:VCALENDAR
VERSION:2.0
PRODID:-//ChamberMaster//Event Calendar 2.0//EN
METHOD:PUBLISH
X-PUBLISHED-TTL:P3D
REFRESH-INTERVAL:P3D
CALSCALE:GREGORIAN
BEGIN:VEVENT
DTSTART:20250514T150000Z
DTEND:20250514T170000Z
X-MICROSOFT-CDO-ALLDAYEVENT:FALSE
SUMMARY:Financial Statements: The Foundation of Strategic Planning
DESCRIPTION:Join BBIF for a dynamic financial literacy workshop designed to help entrepreneurs take control of their business finances and plan strategically.\n\nIn this session\, you'll learn how to:\n\n\n	Use financial software to manage and organize your business financials more effectively\n	Interpret income statements\, balance sheets\, and cash flow statements with confidence\n\n\nSpeaker and Host:\n\nKarlon Johnson- Community Development Officer\, BBIF\n\nDate and Time : May 14th\, 11:00am - 1:00 pm\n\nLocation: Online . Once the workshop is complete\, the presentation and recording will become available to view.\n\nQuestions? Contact Karlon Johnson at kjohnson@bbif.com.
X-ALT-DESC;FMTTYPE=text/html:<p>Join BBIF for a dynamic financial literacy workshop designed to help entrepreneurs take control of their business finances and plan strategically.</p>\n\n<p><strong>In this session\, you&rsquo\;ll learn how to:</strong></p>\n\n<ul>\n	<li>Use financial software to manage and organize your business financials more effectively</li>\n	<li>Interpret income statements\, balance sheets\, and cash flow statements with confidence</li>\n</ul>\n\n<p><strong>Speaker and Host</strong>:</p>\n\n<p><strong>Karlon Johnson</strong>- Community Development Officer\, BBIF</p>\n\n<p><strong>Date and Time :&nbsp\;</strong>May 14th\, 11:00am - 1:00 pm</p>\n\n<p><strong>Location: Online .&nbsp\;</strong>Once the workshop is complete\, the presentation and recording will become available to view.</p>\n\n<p>Questions? Contact&nbsp\;<strong>Karlon Johnson</strong>&nbsp\;at&nbsp\;<strong>kjohnson@bbif.com</strong>.</p>\n
LOCATION:Virtual
UID:e.2138.36968
SEQUENCE:3
DTSTAMP:20260423T140131Z
URL:https://business.seminolebusiness.org/events/details/financial-statements-the-foundation-of-strategic-planning-36968
END:VEVENT

END:VCALENDAR
