BEGIN:VCALENDAR
VERSION:2.0
PRODID:-//ChamberMaster//Event Calendar 2.0//EN
METHOD:PUBLISH
X-PUBLISHED-TTL:P3D
REFRESH-INTERVAL:P3D
CALSCALE:GREGORIAN
BEGIN:VEVENT
DTSTART:20190601T150000Z
DTEND:20190601T170000Z
X-MICROSOFT-CDO-ALLDAYEVENT:FALSE
SUMMARY:Fitness\, Function & Friends | Downtown Lake Mary
DESCRIPTION:Join your Downtown Lake Mary health and fitness professionals from Hohman Health and Wellness & Grind Fitness\, for an interactive group workout and body function seminar. Learn how to optimize your quality-of-life through living a healthy lifestyle. All ages and activity levels are welcome. Highly trained health and fitness professionals at your fingertips to answer questions about exercise and optimizing function of the body.\n\nRegister for your free ticket now at https://www.eventbrite.com/e/fitness-function-friends-downtown-lake-mary-tickets-61822737472?aff=erelexpmlt\n\nwww.hohmanhealth.com | 407.936.9474 | info@hohmanhealth.com                     \n\nwww.grindfitnessorlando.com | 407.915.4856
X-ALT-DESC;FMTTYPE=text/html:<p>Join your Downtown Lake Mary health and fitness professionals from Hohman Health and Wellness &amp\; Grind Fitness\, for an interactive group workout and body function seminar. Learn how to optimize your quality-of-life through living a healthy lifestyle.&nbsp\;All ages and activity levels are welcome. Highly trained health and fitness professionals at your fingertips to answer questions about exercise and optimizing function of the body.</p>\n\n<p>Register for your free ticket now at&nbsp\;<a href="https://www.eventbrite.com/e/fitness-function-friends-downtown-lake-mary-tickets-61822737472?aff=erelexpmlt">https://www.eventbrite.com/e/fitness-function-friends-downtown-lake-mary-tickets-61822737472?aff=erelexpmlt</a></p>\n\n<p>www.hohmanhealth.com | 407.936.9474 | info@hohmanhealth.com&nbsp\; &nbsp\; &nbsp\; &nbsp\; &nbsp\; &nbsp\; &nbsp\; &nbsp\; &nbsp\; &nbsp\; &nbsp\;<br />\nwww.grindfitnessorlando.com | 407.915.4856</p>\n
LOCATION:Grind Fitness 154 N 4th St Suite 1430\, Lake Mary\, FL 32746
UID:e.2138.15172
SEQUENCE:3
DTSTAMP:20260422T063229Z
URL:https://business.seminolebusiness.org/events/details/fitness-function-friends-downtown-lake-mary-15172
END:VEVENT

END:VCALENDAR
