BEGIN:VCALENDAR
VERSION:2.0
PRODID:-//ChamberMaster//Event Calendar 2.0//EN
METHOD:PUBLISH
X-PUBLISHED-TTL:P3D
REFRESH-INTERVAL:P3D
CALSCALE:GREGORIAN
BEGIN:VEVENT
DTSTART:20190608T130000Z
DTEND:20190608T140000Z
X-MICROSOFT-CDO-ALLDAYEVENT:FALSE
SUMMARY:Fitness in the Park - FREE boot camp Public · Hosted by Burn Boot Camp - Lake Mary\, FL
DESCRIPTION:Join us for our very first FREE pop up boot camp at 9am on June 8th at Downtown Lake Mary! Get there a few minutes early to grab your spot\, meet the trainer\, and sign up.\n\n\n\nWe are excited to kick off our pop up camps during Fitness in the Park so grab some friends\, some water\, a towel and get ready to see and experience what Burn is all about!!!\n\n\n\nRSVP on Facebook today!!
X-ALT-DESC;FMTTYPE=text/html:<span style="font-family:tahoma\;"><span style="color: rgb(29\, 33\, 41)\; font-size: 14px\;">Join us for our very first FREE pop up boot camp at 9am on June 8th at Downtown Lake Mary! Get there a few minutes early to grab your spot\, meet the trainer\, and sign up.</span><br />\n<br />\n<span style="color: rgb(29\, 33\, 41)\; font-size: 14px\;">We are excited to kick off our pop up camps during Fitness in the Park so grab some friends\, some water\, a towel and get ready to see and experience what Burn is all about!!!<br />\n<br />\nRSVP on <a href="http://www.facebook.com/events/355333421783783/">Facebook</a>&nbsp\;today!!</span></span>
LOCATION:Lake Mary Farmer's Market\, Downtown Lake Mary\, FL
UID:e.2138.15181
SEQUENCE:3
DTSTAMP:20260422T063430Z
URL:https://business.seminolebusiness.org/events/details/fitness-in-the-park-free-boot-camp-public-hosted-by-burn-boot-camp-lake-mary-fl-15181
END:VEVENT

END:VCALENDAR
