BEGIN:VCALENDAR
VERSION:2.0
PRODID:-//ChamberMaster//Event Calendar 2.0//EN
METHOD:PUBLISH
X-PUBLISHED-TTL:P3D
REFRESH-INTERVAL:P3D
CALSCALE:GREGORIAN
BEGIN:VEVENT
DTSTART:20161115T233000Z
DTEND:20161116T013000Z
X-MICROSOFT-CDO-ALLDAYEVENT:FALSE
SUMMARY:Floral Class - Cornucopia
DESCRIPTION:Say hello to one of our favorite seasons with a floral cornucopia workshop! Join Andie Muller\, FSMD from The Flower Studio on Tuesday\, November 15th at 6:30pm at the beautiful Studio 23 Five for a floral class to remember. We will enjoy coffee\, tea\, & fall treats. All supplies and flowers are included\, but please bring your clippers or pliers.
X-ALT-DESC;FMTTYPE=text/html:<span style="background-color:rgb(255\, 255\, 255)\; color:rgb(75\, 79\, 86)\; font-family:helvetica\,arial\,sans-serif\; font-size:14px">Say hello to one of our favorite seasons with a floral cornucopia workshop! Join Andie Muller\, FSMD from The Flower Studio on Tuesday\, November 15th at 6:30pm at the beautiful Studio 23 Five for a floral class to remember. We will enjoy coffee\, tea\, &amp\; fall treats. All supplies and flowers are included\, but please bring your clippers or pliers.</span>
LOCATION:Everlasting Events\, 570 E Horatio Ave\, Maitland\, Florida https://www.facebook.com/everevents4u/
UID:e.2138.5740
SEQUENCE:3
DTSTAMP:20260425T150312Z
URL:https://business.seminolebusiness.org/events/details/floral-class-cornucopia-5740
END:VEVENT

END:VCALENDAR
