BEGIN:VCALENDAR
VERSION:2.0
PRODID:-//ChamberMaster//Event Calendar 2.0//EN
METHOD:PUBLISH
X-PUBLISHED-TTL:P3D
REFRESH-INTERVAL:P3D
CALSCALE:GREGORIAN
BEGIN:VEVENT
DTSTART:20251010T210000Z
DTEND:20251010T230000Z
X-MICROSOFT-CDO-ALLDAYEVENT:FALSE
SUMMARY:Florida Breast Cancer Foundation Bowling Fundraiser
DESCRIPTION:We're having a PINK OUT Fundraiser at Oviedo Bowling Center! Tickets are $30 and include 2 slices of cheese pizza\, a soda\, 2 hours of unlimited glow bowling & shoe rental! 50% of ticket sales will be donated back to the Florida Breast Cancer Foundation. They will have a table & prizes set out so be sure to say hello! Don't forget to wear PINK! Scan the QR Code or click the link to sign up HERE: https://www.cognitoforms.com/OviedoBowlingCenter/FloridaBreastCancerFundraiserSTRIKEOUT
X-ALT-DESC;FMTTYPE=text/html:We&#39\;re having a PINK OUT Fundraiser at Oviedo Bowling Center! Tickets are $30 and include 2 slices of cheese pizza\, a soda\, 2 hours of unlimited glow bowling &amp\; shoe rental! 50% of ticket sales will be donated back to the Florida Breast Cancer Foundation. They will have a table &amp\; prizes set out so be sure to say hello! Don&#39\;t forget to wear PINK! Scan the QR Code or click the link to sign up HERE:&nbsp\;https://www.cognitoforms.com/OviedoBowlingCenter/FloridaBreastCancerFundraiserSTRIKEOUT<br />\n&nbsp\;
LOCATION:376 E Broadway Street Oviedo Florida
UID:e.2138.38743
SEQUENCE:3
DTSTAMP:20260423T053734Z
URL:https://business.seminolebusiness.org/events/details/florida-breast-cancer-foundation-bowling-fundraiser-38743
END:VEVENT

END:VCALENDAR
