BEGIN:VCALENDAR
VERSION:2.0
PRODID:-//ChamberMaster//Event Calendar 2.0//EN
METHOD:PUBLISH
X-PUBLISHED-TTL:P3D
REFRESH-INTERVAL:P3D
CALSCALE:GREGORIAN
BEGIN:VEVENT
DTSTART:20160920T153000Z
DTEND:20160920T180000Z
X-MICROSOFT-CDO-ALLDAYEVENT:FALSE
SUMMARY:Florida Healthy Babies
DESCRIPTION:Please join us for a  Community Action-Planning Conversation about Infant Mortality and Health Equity in Seminole County. Together\, we will discuss disparities in infant death\, the role of social determinants of health and propose local action.
X-ALT-DESC;FMTTYPE=text/html:Please join us for a&nbsp\; Community Action-Planning Conversation about Infant Mortality and Health Equity in Seminole County. Together\, we will discuss disparities in infant death\, the role of social determinants of health and propose local action.
LOCATION:Sanford Senior Center 401 East Seminole Boulevard Sanford\, FL 32771
UID:e.2138.4890
SEQUENCE:3
DTSTAMP:20260425T175831Z
URL:https://business.seminolebusiness.org/events/details/florida-healthy-babies-4890
END:VEVENT

END:VCALENDAR
