BEGIN:VCALENDAR
VERSION:2.0
PRODID:-//ChamberMaster//Event Calendar 2.0//EN
METHOD:PUBLISH
X-PUBLISHED-TTL:P3D
REFRESH-INTERVAL:P3D
CALSCALE:GREGORIAN
BEGIN:VEVENT
DTSTART:20180211T170000Z
DTEND:20180211T200000Z
X-MICROSOFT-CDO-ALLDAYEVENT:FALSE
SUMMARY:FOODSTOCK SANFORD
DESCRIPTION:MENU\n\nFirst Course:                                                     \n\nGrilled Artisan Bread with Southern Spreads\n\nPresented by The Tennessee Truffle\, Sanford\n\n\n\nSecond Course:                                          \n\nLocal Lettuces and Sprouts with Radishes\, Tomatoes\, and Herb Vinaigrette\n\nPresented by Collette's Clean Eats\, Logwood\n\n\n\nEntree Course:                                                 \n\nGrilled Free Range Chicken with Chimichurri\n\nJimmy Red Grits with Mixed Local Mushrooms and Seasonal Vegetables\n\nPresented by The Smiling Bison\, Sanford and Collette's Clean Eats\, Longwood\n\n\n\nDessert Course: \n\nAssorted Cheesecakes Display                                        \n\nPresented by Father's Table\, Sanford\n\n\n\nCoffee & Tea Service:   \n\nPresented by Community Coffee Co.
X-ALT-DESC;FMTTYPE=text/html:<em><strong>MENU</strong></em><br />\n<u><strong>First Course:</strong></u>&nbsp\;&nbsp\;&nbsp\;&nbsp\;&nbsp\;&nbsp\;&nbsp\;&nbsp\;&nbsp\;&nbsp\; &nbsp\; &nbsp\; &nbsp\; &nbsp\; &nbsp\; &nbsp\; &nbsp\; &nbsp\; &nbsp\; &nbsp\; &nbsp\; &nbsp\; &nbsp\; &nbsp\; &nbsp\; &nbsp\; &nbsp\; &nbsp\; &nbsp\; &nbsp\; &nbsp\;&nbsp\;<br />\nGrilled Artisan Bread with Southern Spreads<br />\n<em>Presented by The Tennessee Truffle\, Sanford</em><br />\n<br />\n<u><strong>Second Course:</strong></u>&nbsp\; &nbsp\; &nbsp\; &nbsp\; &nbsp\; &nbsp\; &nbsp\; &nbsp\; &nbsp\; &nbsp\; &nbsp\; &nbsp\; &nbsp\; &nbsp\; &nbsp\; &nbsp\; &nbsp\; &nbsp\; &nbsp\; &nbsp\; &nbsp\;&nbsp\;<br />\nLocal Lettuces and Sprouts with Radishes\, Tomatoes\, and Herb Vinaigrette<br />\n<em>Presented by Collette&#39\;s Clean Eats\, Logwood</em><br />\n<br />\n<u><strong>Entree Course:</strong></u>&nbsp\;&nbsp\;&nbsp\;&nbsp\;&nbsp\;&nbsp\; &nbsp\; &nbsp\; &nbsp\; &nbsp\; &nbsp\; &nbsp\; &nbsp\; &nbsp\; &nbsp\; &nbsp\; &nbsp\; &nbsp\; &nbsp\; &nbsp\; &nbsp\; &nbsp\; &nbsp\; &nbsp\; &nbsp\; &nbsp\; &nbsp\;&nbsp\;<br />\nGrilled Free Range Chicken with Chimichurri<br />\nJimmy Red Grits with Mixed Local Mushrooms and Seasonal Vegetables<br />\n<em>Presented by The Smiling Bison\, Sanford and Collette&#39\;s Clean Eats\, Longwood</em><br />\n<br />\n<u><strong>Dessert Course:&nbsp\;</strong></u><br />\nAssorted Cheesecakes Display&nbsp\;&nbsp\; &nbsp\; &nbsp\; &nbsp\; &nbsp\; &nbsp\; &nbsp\; &nbsp\; &nbsp\; &nbsp\; &nbsp\; &nbsp\; &nbsp\; &nbsp\; &nbsp\; &nbsp\; &nbsp\; &nbsp\; &nbsp\; &nbsp\;<br />\n<em>Presented by Father&rsquo\;s Table\, Sanford</em><br />\n<br />\n<u><strong>Coffee &amp\; Tea Service</strong></u>:&nbsp\; &nbsp\;<br />\n<em>Presented by&nbsp\;Community Coffee Co.</em>
LOCATION:SANFORD CIVIC CENTER
UID:e.2138.8745
SEQUENCE:3
DTSTAMP:20260424T113245Z
URL:https://business.seminolebusiness.org/events/details/foodstock-sanford-8745
END:VEVENT

END:VCALENDAR
