BEGIN:VCALENDAR
VERSION:2.0
PRODID:-//ChamberMaster//Event Calendar 2.0//EN
METHOD:PUBLISH
X-PUBLISHED-TTL:P3D
REFRESH-INTERVAL:P3D
CALSCALE:GREGORIAN
BEGIN:VEVENT
DTSTART:20170223T220000Z
DTEND:20170224T000000Z
X-MICROSOFT-CDO-ALLDAYEVENT:FALSE
SUMMARY:Foot And Ankle Associates of Florida and Orlando Cardiac & Vascular Specialists Open House
DESCRIPTION:Foot & Ankle Associates of Florida has provided top quality podiatric care for more than 30 years. Our podiatrist live and work in the Central Florida community and bring their extensive experience\, knowledge and dedication to the patients they serve every day. Efficient\, approachable\, friendly\, and caring are just some of the words that their patients have used to describe them. We are excited to announce our expansion in Lake Mary. Our new location will be convenient for our neighbors living in northern Seminole County and the surrounding communities. We provide both surgical and non-surgical treatments for a wide variety of foot and ankle conditions including: Fractures\, Sprains\, Heel Pain Flat Feet\, Bunions\, Ingrown Toenails\, Diabetic Foot Care.
X-ALT-DESC;FMTTYPE=text/html:<em>Foot &amp\; Ankle Associates of Florida has provided top quality podiatric care for more than 30 years. Our podiatrist live and work in the Central Florida community and bring their extensive experience\, knowledge&nbsp\;and dedication to the patients they serve every day. Efficient\, approachable\, friendly\, and caring are just some of the words that their patients have used to describe them. </em>We are excited to announce our expansion in Lake Mary. Our new location will be convenient for our neighbors living in northern Seminole County and the surrounding communities. We provide both surgical and non-surgical treatments for a wide variety of foot and ankle conditions including: Fractures\, Sprains\, Heel Pain Flat Feet\, Bunions\, Ingrown Toenails\, Diabetic Foot Care.
LOCATION:1307 South International Parkway Suite 1061 Lake Mary\, FL 32746
UID:e.2138.6444
SEQUENCE:3
DTSTAMP:20260423T162223Z
URL:https://business.seminolebusiness.org/events/details/foot-and-ankle-associates-of-florida-and-orlando-cardiac-vascular-specialists-open-house-6444
END:VEVENT

END:VCALENDAR
