BEGIN:VCALENDAR
VERSION:2.0
PRODID:-//ChamberMaster//Event Calendar 2.0//EN
METHOD:PUBLISH
X-PUBLISHED-TTL:P3D
REFRESH-INTERVAL:P3D
CALSCALE:GREGORIAN
BEGIN:VEVENT
DTSTART:20180421T133000Z
DTEND:20180421T183000Z
X-MICROSOFT-CDO-ALLDAYEVENT:FALSE
SUMMARY:Forensic Expert Witness Association's Florida Chapter Workshop
DESCRIPTION:Attorney Eric C. Boughman discusses Recent Trends in Business Litigation for the Forensic Expert Witness Association.
X-ALT-DESC;FMTTYPE=text/html:<span style="font-size: 16px\;">Attorney Eric C. Boughman discusses&nbsp\;<em>Recent Trends in Business Litigation</em>&nbsp\;for the Forensic Expert Witness Association.</span>
LOCATION:Associated Builders and Contractors\, Inc. 651 Danville Drive\, Suite 200 Orlando\, FL 32825
UID:e.2138.8828
SEQUENCE:3
DTSTAMP:20260424T120328Z
URL:https://business.seminolebusiness.org/events/details/forensic-expert-witness-association-s-florida-chapter-workshop-8828
END:VEVENT

END:VCALENDAR
