BEGIN:VCALENDAR
VERSION:2.0
PRODID:-//ChamberMaster//Event Calendar 2.0//EN
METHOD:PUBLISH
X-PUBLISHED-TTL:P3D
REFRESH-INTERVAL:P3D
CALSCALE:GREGORIAN
BEGIN:VEVENT
DTSTART:20190730T160000Z
DTEND:20190730T170000Z
X-MICROSOFT-CDO-ALLDAYEVENT:FALSE
SUMMARY:ForsterBoughman seminar: Attorney Eric C. Boughma presents the second half of his seminar "Artificial Intelligence and the Potential Perils of Connected Medical Devices" (Part 2)
DESCRIPTION:Attorney Eric C. Boughman continues his discussion on technology devices\, big data analytics\, and artificial intelligence\, as he presents the second half of his seminar via Live National Webinar on:\n\n\n\nPrivacy in Healthcare:  Artificial Intelligence and the Potential Perils of Connected Medical Devices (Part 2)\n\n\n\nDon't worry if you missed Part 1\, this seminar begins with a recap of the previously covered material.  Learn about the potential perils created by artificial intelligence and big data with a particular focus on the areas not covered by HIPAA privacy and security rules.
X-ALT-DESC;FMTTYPE=text/html:Attorney&nbsp\;Eric C. Boughman continues his discussion on technology devices\, big data analytics\, and artificial intelligence\, as he presents the second half of his seminar via Live National Webinar on:<br />\n<br />\n<em><strong>Privacy in Healthcare:&nbsp\; Artificial Intelligence and the Potential Perils of Connected Medical Devices (Part 2)</strong></em><br />\n<br />\nDon&#39\;t worry if you missed Part 1\, t<span style="color:rgb(31\, 31\, 31)\; font-family:arial\,verdana\,helvetica\,sans-serif\; font-size:14px">his seminar begins with a recap of the previously covered material.&nbsp\;</span> Learn about the potential perils created by artificial intelligence and big data with a particular focus on the areas not covered by HIPAA privacy and security rules.
LOCATION:Online Event -- Live National Webinar Registration Link: https://attendee.gotowebinar.com/register/4032289970150961419
UID:e.2138.16238
SEQUENCE:3
DTSTAMP:20260422T050607Z
URL:https://business.seminolebusiness.org/events/details/forsterboughman-seminar-attorney-eric-c-boughma-presents-the-second-half-of-his-seminar-artificial-intelligence-and-the-potential-perils-of-connected-medical-devices-part-2-16238
END:VEVENT

END:VCALENDAR
