BEGIN:VCALENDAR
VERSION:2.0
PRODID:-//ChamberMaster//Event Calendar 2.0//EN
METHOD:PUBLISH
X-PUBLISHED-TTL:P3D
REFRESH-INTERVAL:P3D
CALSCALE:GREGORIAN
BEGIN:VEVENT
DTSTART:20190619T160000Z
DTEND:20190619T170000Z
X-MICROSOFT-CDO-ALLDAYEVENT:FALSE
SUMMARY:ForsterBoughman seminar: Attorney Eric C. Boughman presents his seminar on "Privacy in Healthcare: Artificial Intelligence and the Potential Perils of Connected Medical Devices"
DESCRIPTION:Attorney Eric C. Boughman continues his Privacy in Healthcare series with the next installment in the series presenting his seminar via Live National Webinar on:\n\n\n\nPrivacy in Healthcare:  Artificial Intelligence and the Potential Perils of Connected Medical Devices\n\n\n\nLearn about the potential perils created by artificial intelligence and big data with a particular focus on the areas not covered by HIPAA privacy and security rules.
X-ALT-DESC;FMTTYPE=text/html:Attorney&nbsp\;Eric C. Boughman continues his Privacy in Healthcare series with the next installment in the series presenting his seminar via Live National Webinar on:<br />\n<br />\n<em><strong>Privacy in Healthcare:&nbsp\; Artificial Intelligence and the Potential Perils of Connected Medical Devices</strong></em><br />\n<br />\nLearn about the potential perils created by artificial intelligence and big data with a particular focus on the areas not covered by HIPAA privacy and security rules.
LOCATION:Live National Webinar Registration Link: https://attendee.gotowebinar.com/register/4290833530843824907
UID:e.2138.15164
SEQUENCE:3
DTSTAMP:20260422T064304Z
URL:https://business.seminolebusiness.org/events/details/forsterboughman-seminar-attorney-eric-c-boughman-presents-his-seminar-on-privacy-in-healthcare-artificial-intelligence-and-the-potential-perils-of-connected-medical-devices-15164
END:VEVENT

END:VCALENDAR
