BEGIN:VCALENDAR
VERSION:2.0
PRODID:-//ChamberMaster//Event Calendar 2.0//EN
METHOD:PUBLISH
X-PUBLISHED-TTL:P3D
REFRESH-INTERVAL:P3D
CALSCALE:GREGORIAN
BEGIN:VEVENT
DTSTART:20190724T163000Z
DTEND:20190724T173000Z
X-MICROSOFT-CDO-ALLDAYEVENT:FALSE
SUMMARY:ForsterBoughman seminar: Attorney Eric C. Boughman presents on "DIGITAL COMPLIANCE" for the FICPA Central Florida Chapter at the Citrus Club
DESCRIPTION:Attorney Eric C. Boughman\, founding partner of the law firm of ForsterBoughman presents his seminar "DIGITAL COMPLIANCE:  Potential Perils involving Digital Theft\, Smart Machines\, Connected Devices\, and other Privacy areas for Accountants" at the Citrus Club -- 255 S. Orange Avenue\, Orlando\, FL 32801.\n\n\n\nPlease contact the FICPA Central Florida Chapter for more info:\n\nhttps://www.ficpa.org/Public/catalog/eventdetails.aspx?courseID=19CF072419
X-ALT-DESC;FMTTYPE=text/html:<div>Attorney Eric C. Boughman\, founding partner of the law firm of ForsterBoughman&nbsp\;<span style="color:rgb(31\, 31\, 31)\; font-family:arial\,verdana\,helvetica\,sans-serif\; font-size:14px">presents his seminar &quot\;DIGITAL COMPLIANCE:&nbsp\;&nbsp\;</span>Potential Perils involving Digital Theft\, Smart Machines\, Connected Devices\, and other Privacy areas for Accountants&quot\; at <span style="font-size:14px">t</span>he Citrus Club -- 255 S. Orange Avenue\, Orlando\, FL 32801.<br />\n<br />\n<span style="color:rgb(31\, 31\, 31)\; font-family:arial\,verdana\,helvetica\,sans-serif\; font-size:14px">Please contact the FICPA Central Florida Chapter for more info:</span><br />\nhttps://www.ficpa.org/Public/catalog/eventdetails.aspx?courseID=19CF072419</div>\n
LOCATION:The Citrus Club 255 S. Orange Ave. Orlando\, FL 32801
UID:e.2138.16239
SEQUENCE:3
DTSTAMP:20260422T050658Z
URL:https://business.seminolebusiness.org/events/details/forsterboughman-seminar-attorney-eric-c-boughman-presents-on-digital-compliance-for-the-ficpa-central-florida-chapter-at-the-citrus-club-16239
END:VEVENT

END:VCALENDAR
