BEGIN:VCALENDAR
VERSION:2.0
PRODID:-//ChamberMaster//Event Calendar 2.0//EN
METHOD:PUBLISH
X-PUBLISHED-TTL:P3D
REFRESH-INTERVAL:P3D
CALSCALE:GREGORIAN
BEGIN:VEVENT
DTSTART:20190821T210000Z
DTEND:20190822T000000Z
X-MICROSOFT-CDO-ALLDAYEVENT:FALSE
SUMMARY:ForsterBoughman seminar: Attorneys Gary A. Forster and Eric C. Boughman present on "Cryptocurrencies and Asset Protection" for the FICPA South Dade Chapter at the Killian Green Golf Course in Miami
DESCRIPTION:Attorneys Gary A. Forster and Eric C. Boughman of the law firm of ForsterBoughman present their seminar "Cryptocurrencies and Asset Protection" for the FICPA South Dade Chapter at the Killian Green Golf Course -- 9950 SW 104 Street\, Miami\, FL 33176. \n\n\n\nPlease contact the FICPA South Dade Chapter for more info:  \n\nhttps://www.ficpa.org/Public/catalog/eventdetails.aspx?courseID=19SD082119
X-ALT-DESC;FMTTYPE=text/html:<div><span style="font-size:14px">Attorneys Gary A. Forster and Eric C. Boughman of the law firm of ForsterBoughman&nbsp\;<span style="color:rgb(31\, 31\, 31)\; font-family:arial\,verdana\,helvetica\,sans-serif">present their seminar &quot\;</span>Cryptocurrencies and Asset Protection&quot\; for the FICPA South Dade Chapter at the Killian Green Golf Course -- 9950 SW 104 Street\, Miami\, FL 33176.&nbsp\;<br />\n<br />\n<span style="color:rgb(31\, 31\, 31)\; font-family:arial\,verdana\,helvetica\,sans-serif">Please contact the FICPA South Dade Chapter for more info:&nbsp\;&nbsp\;</span><br />\nhttps://www.ficpa.org/Public/catalog/eventdetails.aspx?courseID=19SD082119</span></div>\n
LOCATION:Killian Green Golf Course 9950 SW 104 Street Miami\, FL 33176
UID:e.2138.16539
SEQUENCE:3
DTSTAMP:20260422T034931Z
URL:https://business.seminolebusiness.org/events/details/forsterboughman-seminar-attorneys-gary-a-forster-and-eric-c-boughman-present-on-cryptocurrencies-and-asset-protection-for-the-ficpa-south-dade-chapter-at-the-killian-green-golf-course-in-miami-16539
END:VEVENT

END:VCALENDAR
