BEGIN:VCALENDAR
VERSION:2.0
PRODID:-//ChamberMaster//Event Calendar 2.0//EN
METHOD:PUBLISH
X-PUBLISHED-TTL:P3D
REFRESH-INTERVAL:P3D
CALSCALE:GREGORIAN
BEGIN:VEVENT
DTSTART:20190827T210000Z
DTEND:20190828T000000Z
X-MICROSOFT-CDO-ALLDAYEVENT:FALSE
SUMMARY:ForsterBoughman seminar: Attorneys Gary A. Forster and J. Brian Page present on "Foreign Taxation with Associated Asset Protection and the Impact of Cryptocurrencies" for the NYSSCPA Queens / Brooklyn Chapter LIVE from the St. John's University Campus
DESCRIPTION:Attorneys Gary A. Forster and J. Brian Page of the law firm of ForsterBoughman present their seminar "Foreign Taxation with Associated Asset Protection and the Impact of Cryptocurrencies" for the NYSSCPA Queens / Brooklyn Chapter LIVE from the St. John's University Campus -- Tobin School of Business\, Bent Hall / Room 201\, 8000 Utopia Parkway\, Queens\, NY 11439.. \n\n\n\nPlease contact the NYSSCPA Queens / Brooklyn Chapter for more info:  \n\nhttps://cpe.nysscpa.org/product/30663
X-ALT-DESC;FMTTYPE=text/html:<div>Attorneys Gary A. Forster and J. Brian Page of the law firm of ForsterBoughman&nbsp\;<span style="color:rgb(31\, 31\, 31)\; font-family:arial\,verdana\,helvetica\,sans-serif">present their seminar &quot\;</span>Foreign Taxation with Associated Asset Protection and the Impact of Cryptocurrencies&quot\; for the NYSSCPA Queens / Brooklyn Chapter LIVE from the St. John&#39\;s University Campus -- Tobin School of Business\, Bent Hall / Room 201\, 8000 Utopia Parkway\, Queens\, NY 11439..&nbsp\;<br />\n<br />\nPlease contact the NYSSCPA Queens / Brooklyn Chapter for more info<span style="color:rgb(31\, 31\, 31)\; font-family:arial\,verdana\,helvetica\,sans-serif">:&nbsp\;&nbsp\;</span><br />\nhttps://cpe.nysscpa.org/product/30663<br />\n&nbsp\;</div>\n
LOCATION:St. John's University Campus Tobin School of Business Bent Hall / Room 201 8000 Utopia Parkway Queens\, NY 11439
UID:e.2138.16540
SEQUENCE:3
DTSTAMP:20260422T050822Z
URL:https://business.seminolebusiness.org/events/details/forsterboughman-seminar-attorneys-gary-a-forster-and-j-brian-page-present-on-foreign-taxation-with-associated-asset-protection-and-the-impact-of-cryptocurrencies-for-the-nysscpa-queens-brooklyn-chapter-live-from-the-st-john-s-university-campus-16540
END:VEVENT

END:VCALENDAR
