BEGIN:VCALENDAR
VERSION:2.0
PRODID:-//ChamberMaster//Event Calendar 2.0//EN
METHOD:PUBLISH
X-PUBLISHED-TTL:P3D
REFRESH-INTERVAL:P3D
CALSCALE:GREGORIAN
BEGIN:VEVENT
DTSTART:20240516T160000Z
DTEND:20240516T170000Z
X-MICROSOFT-CDO-ALLDAYEVENT:FALSE
SUMMARY:ForsterBoughman Seminar -- How to Avoid Exit Tax When Returning Home: The Resident Foreign National and Worldwide U.S. Income Tax
DESCRIPTION:Attorneys Gary A. Forster and J. Brian Page of ForsterBoughman explore expatriation tax rules for residents\, assets\, and tax reduction\, in their seminar:\n\n\n\nHow to Avoid Exit Tax When Returning Home: The Resident Foreign National and Worldwide U.S. Income Tax\n\nResident foreign nationals face potential taxation upon permanent exit from the U.S.  In this seminar\, we explore the income tax consequences of expatriation by permanent residents (and U.S. citizens)\, and their assets.  We discuss the nuances of the deemed sale rules\, examining their evolution and implications.  Attendees will learn effective strategies for reducing tax and ensuring compliance.
X-ALT-DESC;FMTTYPE=text/html:<span style="font-size:16px">Attorneys Gary A. Forster&nbsp\;and J. Brian Page of ForsterBoughman explore expatriation tax rules for residents\, assets\, and tax reduction\, in their seminar:</span><br />\n<br />\n<strong><span style="font-size:16px">How to Avoid Exit Tax When Returning Home: The Resident Foreign National and Worldwide U.S. Income Tax</span></strong><br />\n<span style="font-size:16px">Resident foreign nationals face potential taxation upon permanent exit from the U.S.&nbsp\; In this seminar\, we explore the income tax consequences of expatriation by permanent residents (and U.S. citizens)\, and their assets.&nbsp\; We discuss the nuances of the deemed sale rules\, examining their evolution and implications.&nbsp\; Attendees will learn effective strategies for reducing tax and ensuring compliance.</span>
LOCATION:LIVE (no cost) Online Event. Link to Register: https://us06web.zoom.us/webinar/register/WN_m1pI5a4BTCCOLWSftyofYw
UID:e.2138.35314
SEQUENCE:3
DTSTAMP:20260420T095459Z
URL:https://business.seminolebusiness.org/events/details/forsterboughman-seminar-how-to-avoid-exit-tax-when-returning-home-the-resident-foreign-national-and-worldwide-u-s-income-tax-35314
END:VEVENT

END:VCALENDAR
