BEGIN:VCALENDAR
VERSION:2.0
PRODID:-//ChamberMaster//Event Calendar 2.0//EN
METHOD:PUBLISH
X-PUBLISHED-TTL:P3D
REFRESH-INTERVAL:P3D
CALSCALE:GREGORIAN
BEGIN:VEVENT
DTSTART:20190514T140000Z
DTEND:20190514T210000Z
X-MICROSOFT-CDO-ALLDAYEVENT:FALSE
SUMMARY:ForsterBoughman seminar presented for National Business Institute on "Privacy Law: Privacy\, Data Security and Cybersecurity -- Getting the Basics Down"
DESCRIPTION:Attorneys Eric C. Boughman and Teresa N. Phillips present for the National Business Institute the following seminars on Privacy Law topics:\n\n	Laws Governing Privacy and Information Security\n	Top Threats and Vulnerabilities\n	Data Protection: Compliance And Best Practices     \n	Data Security Breaches: Responses\, Liabilities\, and Litigation
X-ALT-DESC;FMTTYPE=text/html:Attorneys&nbsp\;Eric C. Boughman and Teresa N. Phillips present for the National Business Institute the following seminars on Privacy Law topics:\n<ul>\n	<li><em><strong>Laws Governing Privacy and Information Security</strong></em></li>\n	<li><em><strong>Top Threats and Vulnerabilities</strong></em></li>\n	<li><em><strong>Data Protection: Compliance And Best Practices&nbsp\; &nbsp\; </strong></em>&nbsp\;</li>\n	<li><em><strong>Data Security Breaches: Responses\, Liabilities\, and Litigation</strong></em></li>\n</ul>\n
LOCATION:Video Webcast Registration Link: https://www.nbi-sems.com/ProductDetails/82666ER?ctname=SPKEM
UID:e.2138.15163
SEQUENCE:3
DTSTAMP:20260422T081404Z
URL:https://business.seminolebusiness.org/events/details/forsterboughman-seminar-presented-for-national-business-institute-on-privacy-law-privacy-data-security-and-cybersecurity-getting-the-basics-down-15163
END:VEVENT

END:VCALENDAR
