BEGIN:VCALENDAR
VERSION:2.0
PRODID:-//ChamberMaster//Event Calendar 2.0//EN
METHOD:PUBLISH
X-PUBLISHED-TTL:P3D
REFRESH-INTERVAL:P3D
CALSCALE:GREGORIAN
BEGIN:VEVENT
DTSTART:20250825T210000Z
DTEND:20250825T230000Z
X-MICROSOFT-CDO-ALLDAYEVENT:FALSE
SUMMARY:ForsterBoughman Seminar -- Tax & Tonic: Practical advice for sophisticated CPAs
DESCRIPTION:Attorney Gary A. Forster of ForsterBoughman meets with New York City CPAs and financial professionals\, where he'll discuss the latest developments and trends in tax law.\n\n\n\nTax & Tonic: Practical advice for sophisticated CPAs at the Butcher & Banker restaurant (inside The New Yorker Hotel) in Midtown Manhattan.\n\n\n\nTax & Tonic is a discussion group intended to inform CPAs of pertinent tax law changes and issues\, with a focus on international\, corporate and estate tax matters.
X-ALT-DESC;FMTTYPE=text/html:<span style="font-size:16px">Attorney Gary A. Forster of ForsterBoughman meets with New York City CPAs</span><span style="font-size:16px"> and financial professionals\, where he&#39\;ll discuss the latest developments and trends in tax law.<br />\n<br />\n<strong>Tax &amp\; Tonic: Practical advice for sophisticated CPAs&nbsp\;</strong>at the Butcher &amp\; Banker restaurant (inside The New Yorker Hotel) in Midtown Manhattan.<br />\n<br />\nTax &amp\; Tonic is a discussion group intended to inform CPAs of pertinent tax law changes and issues\, with a focus on international\, corporate and estate tax matters.</span>
LOCATION:Butcher & Banker inside The New Yorker Hotel 481 8th Avenue New York\, NY 10001
UID:e.2138.37835
SEQUENCE:3
DTSTAMP:20260423T085222Z
URL:https://business.seminolebusiness.org/events/details/forsterboughman-seminar-tax-tonic-practical-advice-for-sophisticated-cpas-08-25-2025-37835
END:VEVENT

END:VCALENDAR
