BEGIN:VCALENDAR
VERSION:2.0
PRODID:-//ChamberMaster//Event Calendar 2.0//EN
METHOD:PUBLISH
X-PUBLISHED-TTL:P3D
REFRESH-INTERVAL:P3D
CALSCALE:GREGORIAN
BEGIN:VEVENT
DTSTART:20231221T170000Z
DTEND:20231221T180000Z
X-MICROSOFT-CDO-ALLDAYEVENT:FALSE
SUMMARY:ForsterBoughman Seminar -- Welcome to America: Immigration Tax Planning for the Wealthy using Foreign Trusts
DESCRIPTION:Attorney Gary A. Forster covers foreign trust benefits\, tax strategies\, and practical considerations\, in his seminar:\n\n\n\nWelcome to America: Immigration Tax Planning for the Wealthy using Foreign Trusts\n\nIn this seminar\, we provide an overview of how the foreign trust may be used to shelter foreign income and assets from US estate and gift tax.  Attendees will learn about the timing of funding a foreign structure\, when to establish US residency\, business entities\, and how to abandon a plan without tax implications.  We will also explore key topics such as jurisdiction selection and how best to handle foreign and US trust beneficiaries.
X-ALT-DESC;FMTTYPE=text/html:Attorney Gary A. Forster covers foreign trust benefits\, tax strategies\, and practical considerations\, in his seminar:<br />\n<br />\n<strong>Welcome to America: Immigration Tax Planning for the Wealthy using Foreign Trusts</strong><br />\nIn this seminar\, we provide an overview of how the foreign trust may be used to shelter foreign income and assets from US estate and gift tax.&nbsp\; Attendees will learn about the timing of funding a foreign structure\, when to establish US residency\, business entities\, and how to abandon a plan without tax implications.&nbsp\; We will also explore key topics such as jurisdiction selection and how best to handle foreign and US trust beneficiaries.
LOCATION:LIVE (no cost) online event. Link to Register: https://us06web.zoom.us/webinar/register/WN_Oa__PXJfQdyfhEUtvxcSvg
UID:e.2138.33599
SEQUENCE:3
DTSTAMP:20260424T203058Z
URL:https://business.seminolebusiness.org/events/details/forsterboughman-seminar-welcome-to-america-immigration-tax-planning-for-the-wealthy-using-foreign-trusts-12-21-2023-33599
END:VEVENT

END:VCALENDAR
