BEGIN:VCALENDAR
VERSION:2.0
PRODID:-//ChamberMaster//Event Calendar 2.0//EN
METHOD:PUBLISH
X-PUBLISHED-TTL:P3D
REFRESH-INTERVAL:P3D
CALSCALE:GREGORIAN
BEGIN:VEVENT
DTSTART:20231228T170000Z
DTEND:20231228T180000Z
X-MICROSOFT-CDO-ALLDAYEVENT:FALSE
SUMMARY:ForsterBoughman Seminar -- 10 Tips to Help Your Negotiations – In Healthcare\, In Mediation\, and In Life
DESCRIPTION:Attorney Eric C. Boughman provides practical tips for successful negotiations in healthcare\, mediation\, and personal relations\, in his seminar:\n\n\n\n10 Tips to Help Your Negotiations   In Healthcare\, In Mediation\, and In Life\n\nIn this seminar\, Eric provides practical advice for successful negotiations.  Whether you are representing a healthcare practice trying to get paid\, involved in a mediation or negotiating to avoid or resolve a lawsuit\, or simply trying to improve business negotiations or personal relations\, everyone can benefit from better negotiations skills.  Attendees will learn strategies and techniques that can be immediately applied to improve these interactions.
X-ALT-DESC;FMTTYPE=text/html:Attorney Eric C. Boughman&nbsp\;provides practical tips for successful negotiations in healthcare\, mediation\, and personal relations\, in his seminar:<br />\n<br />\n<strong>10 Tips to Help Your Negotiations &ndash\; In Healthcare\, In Mediation\, and In Life</strong><br />\nIn this seminar\, Eric provides practical advice for successful negotiations.&nbsp\; Whether you are representing a healthcare practice trying to get paid\, involved in a mediation or negotiating to avoid or resolve a lawsuit\, or simply trying to improve business negotiations or personal relations\, everyone can benefit from better negotiations skills.&nbsp\; Attendees will learn strategies and techniques that can be immediately applied to improve these interactions.
LOCATION:Online Event. Link to Register: https://us06web.zoom.us/webinar/register/WN_IUoXFHUHR2252huNvLPcvg
UID:e.2138.33598
SEQUENCE:3
DTSTAMP:20260424T203029Z
URL:https://business.seminolebusiness.org/events/details/forsterboughman-seminar-welcome-to-america-immigration-tax-planning-for-the-wealthy-using-foreign-trusts-33598
END:VEVENT

END:VCALENDAR
