BEGIN:VCALENDAR
VERSION:2.0
PRODID:-//ChamberMaster//Event Calendar 2.0//EN
METHOD:PUBLISH
X-PUBLISHED-TTL:P3D
REFRESH-INTERVAL:P3D
CALSCALE:GREGORIAN
BEGIN:VEVENT
DTSTART:20190510T160000Z
DTEND:20190510T220000Z
X-MICROSOFT-CDO-ALLDAYEVENT:FALSE
SUMMARY:ForsterBoughman seminars presented for the Medical and Dental Society Workshop at the Mead Botanical Garden
DESCRIPTION:Attorneys Eric C. Boughman and Charles W. "Skip" Sell present their seminars on:\nAvoiding Lawsuits & Protecting Your Assets\n\nand\n\nPractice Fraud & Embezzlement Protection\nat the Mead Botanical Garden (1300 S. Denning Drive\, Winter Park\, Florida 32789).\n\n\n\nIn cooperation with PNC Bank / Healthcare Practice
X-ALT-DESC;FMTTYPE=text/html:Attorneys Eric C. Boughman and Charles W. &quot\;Skip&quot\; Sell present their seminars on:\n<div><strong><em>Avoiding Lawsuits &amp\; Protecting Your Assets</em></strong><br />\nand<br />\n<strong><em>Practice Fraud &amp\; Embezzlement Protection</em></strong></div>\nat the Mead Botanical Garden (1300 S. Denning Drive\, Winter Park\, Florida 32789).<br />\n<br />\nIn cooperation with PNC Bank / Healthcare Practice<br />\n&nbsp\;
LOCATION:Mead Botanical Garden 1300 S. Denning Drive Winter Park\, Florida 32789
UID:e.2138.15162
SEQUENCE:3
DTSTAMP:20260422T081601Z
URL:https://business.seminolebusiness.org/events/details/forsterboughman-seminars-presented-for-the-medical-and-dental-society-workshop-at-the-mead-botanical-garden-15162
END:VEVENT

END:VCALENDAR
