BEGIN:VCALENDAR
VERSION:2.0
PRODID:-//ChamberMaster//Event Calendar 2.0//EN
METHOD:PUBLISH
X-PUBLISHED-TTL:P3D
REFRESH-INTERVAL:P3D
CALSCALE:GREGORIAN
BEGIN:VEVENT
DTSTART:20160822T130000Z
DTEND:20160822T160000Z
X-MICROSOFT-CDO-ALLDAYEVENT:FALSE
SUMMARY:Free Centra Care Biometric Screening
DESCRIPTION:We're providing a variety of free screenings and lectures designed to make Oviedo 1 Healthy Community!  In 1 convenient area\, the Florida Hospital Network of Care offers primary care and specialty physicians\, urgent care\, imaging services and physical therapy\, providing an array of prevention\, diagnosis and treatments for the body\, mind and spirit.\n\nCentra Care's instant biometric screening is a measurement of overall health based on physical characteristics such as height\, weight\, body mass index\, blood pressure\, total cholesterol and glucose.\n\nFor full details and to reserve a screening time\, visit FHEventsOviedo.com or call 407.200.2900.
X-ALT-DESC;FMTTYPE=text/html:We&#39\;re providing a variety of free screenings and lectures designed to make Oviedo 1 Healthy Community! &nbsp\;In 1 convenient area\, the Florida Hospital&nbsp\;Network of Care offers primary care and&nbsp\;specialty physicians\, urgent care\, imaging&nbsp\;services and physical therapy\, providing&nbsp\;an array of prevention\, diagnosis and&nbsp\;treatments for the body\, mind and spirit.<br />\nCentra Care&#39\;s instant biometric screening is a measurement of overall health based on physical characteristics such as height\, weight\, body mass index\, blood pressure\, total cholesterol and glucose.<br />\nFor full details and to reserve a screening time\, visit FHEventsOviedo.com or call 407.200.2900.
LOCATION:Oviedo YMCA
UID:e.2138.4799
SEQUENCE:3
DTSTAMP:20260425T192852Z
URL:https://business.seminolebusiness.org/events/details/free-centra-care-biometric-screening-08-22-2016-4799
END:VEVENT

END:VCALENDAR
