BEGIN:VCALENDAR
VERSION:2.0
PRODID:-//ChamberMaster//Event Calendar 2.0//EN
METHOD:PUBLISH
X-PUBLISHED-TTL:P3D
REFRESH-INTERVAL:P3D
CALSCALE:GREGORIAN
BEGIN:VEVENT
DTSTART:20170502T220000Z
DTEND:20170503T000000Z
X-MICROSOFT-CDO-ALLDAYEVENT:FALSE
SUMMARY:Free Dinner with the Doc at Boca on Park Ave in Winter Park
DESCRIPTION:Learn the secrets to maximizing your health! Hosted by Dr. Lisa Palmer\, DC of Palmer Natural Health at Boca Farm-to-Table restaurant on Park Ave in Winter Park\, FL.\n\nLearn how to boost your energy levels\, feel great all the time and sleep like a rock.\n\nWe will also cover:\n\n- Hidden factors that can cause you to constantly crave junk foods.  How to boost your immune system naturally every Flu season.\n\n- Common reasons people struggle with mental focus and concentration at work and home.   \n\nThen\, enjoy a healthy\, delicious and free Farm to Table dinner!\n\nAdults only. Medicare and medicaid excluded. Must be 21+ to attend.\n\nBring a guest if you'd like! Call us at 407-682-8444 to RSVP your attendance. Seats fill up fast.
X-ALT-DESC;FMTTYPE=text/html:<p>Learn the secrets to maximizing your health! Hosted by Dr. Lisa Palmer\, DC of Palmer Natural Health at Boca Farm-to-Table restaurant on Park Ave in Winter Park\, FL.</p>\n\n<p>Learn how to boost your energy levels\, feel great&nbsp\;all the time and sleep like a rock.</p>\n\n<p><strong>We will also cover:</strong></p>\n\n<p>- Hidden factors that can cause you to constantly crave junk foods. &nbsp\;How to boost your immune system naturally every Flu season.</p>\n\n<p>- Common reasons people struggle with mental focus and concentration at work and home. &nbsp\;&nbsp\;</p>\n\n<p>Then\, enjoy a healthy\, delicious and free Farm to Table dinner!</p>\n\n<p>Adults only. Medicare and medicaid excluded. Must be 21+ to attend.</p>\n\n<p>Bring a guest if you&#39\;d like! Call us at 407-682-8444 to RSVP your attendance. Seats fill up fast.</p>\n
LOCATION:Boca Kitchen Farm to Table Restaurant Winter Park 358 N Park Ave Suite A Winter Park\, FL 32789 Reserve your seat online at http://tinyurl.com/boca-rsvp or call 407-682-8444 to RSVP your attendance.
UID:e.2138.6703
SEQUENCE:3
DTSTAMP:20260423T210900Z
URL:https://business.seminolebusiness.org/events/details/free-dinner-with-the-doc-at-boca-on-park-ave-in-winter-park-6703
END:VEVENT

END:VCALENDAR
