BEGIN:VCALENDAR
VERSION:2.0
PRODID:-//ChamberMaster//Event Calendar 2.0//EN
METHOD:PUBLISH
X-PUBLISHED-TTL:P3D
REFRESH-INTERVAL:P3D
CALSCALE:GREGORIAN
BEGIN:VEVENT
DTSTART:20170308T230000Z
DTEND:20170309T010000Z
X-MICROSOFT-CDO-ALLDAYEVENT:FALSE
SUMMARY:Free Dinner with the Natural Doc at Kobe Steakhouse
DESCRIPTION:Learn the secrets to maximizing your health! Hosted by Dr. Jason Dean\, DC of Palmer Natural Health at Kobe Steakhouse in Altamonte Springs\, FL.\n\nLearn how to boost your energy levels\, feel great all the time and sleep like a rock.\n\nWe will also cover:\n\n- Hidden factors that can cause you to constantly crave junk foods.  How to boost your immune system naturally every Flu season.\n\n- Common reasons people struggle with mental focus and concentration at work and home.   \n\nThen\, enjoy a healthy\, delicious and free Japanese dinner!\n\nAdults only. Medicare and medicaid excluded.\n\nBring a guest if you'd like!
X-ALT-DESC;FMTTYPE=text/html:<p>Learn the secrets to maximizing your health! Hosted by Dr. Jason Dean\, DC of Palmer Natural Health at Kobe Steakhouse in Altamonte Springs\, FL.</p>\n\n<p>Learn how to boost your energy levels\, feel great&nbsp\;all the time and sleep like a rock.</p>\n\n<p><strong>We will also cover:</strong></p>\n\n<p>- Hidden factors that can cause you to constantly crave junk foods. &nbsp\;How to boost your immune system naturally every Flu season.</p>\n\n<p>- Common reasons people struggle with mental focus and concentration at work and home. &nbsp\;&nbsp\;</p>\n\n<p>Then\, enjoy a healthy\, delicious and free Japanese dinner!</p>\n\n<p>Adults only. Medicare and medicaid excluded.</p>\n\n<p>Bring a guest if you&#39\;d like!</p>\n
LOCATION:Kobe Steakhouse Altamonte Springs 468 W Hwy 436 Altamonte Springs\, FL 32714 Reserve your seat online at https://tinyurl.com/kobe-rsvp or call 407-682-8444 to RSVP your attendance.
UID:e.2138.6467
SEQUENCE:3
DTSTAMP:20260423T180800Z
URL:https://business.seminolebusiness.org/events/details/free-dinner-with-the-natural-doc-at-kobe-steakhouse-6467
END:VEVENT

END:VCALENDAR
