BEGIN:VCALENDAR
VERSION:2.0
PRODID:-//ChamberMaster//Event Calendar 2.0//EN
METHOD:PUBLISH
X-PUBLISHED-TTL:P3D
REFRESH-INTERVAL:P3D
CALSCALE:GREGORIAN
BEGIN:VEVENT
DTSTART:20170602T230000Z
DTEND:20170603T000000Z
X-MICROSOFT-CDO-ALLDAYEVENT:FALSE
SUMMARY:[Free Event] Coffee & Cosmos
DESCRIPTION:Join Michael McConville\, coordinator of the planetarium\, for an evening of celestial observing and coffee at the Starbucks on International Parkway in Lake Mary.\n\n\n\nAll visitors will receive a free tall coffee\, courtesy of our hosts at Starbucks.\n\n\n\nPlease note that celestial observing is weather permitting. We will make a determination at 6 p.m. on the evening of the event if weather conditions do not seem to be cooperative.
X-ALT-DESC;FMTTYPE=text/html:<span style="background-color:rgb(255\, 255\, 255)\; color:rgb(0\, 0\, 0)\; font-family:arial\,sans-serif\; font-size:12px">Join Michael McConville\, coordinator of the planetarium\, for an evening of celestial observing and coffee at the Starbucks on International Parkway in Lake Mary.<br />\n<br />\nAll visitors will receive a free tall coffee\, courtesy of our hosts at Starbucks.<br />\n<br />\nPlease note that celestial observing is weather permitting. We will make a determination at 6 p.m. on the evening of the event if weather conditions do not seem to be cooperative.</span>
LOCATION:Starbucks 910 International Pkwy Lake Mary\, FL 32746
UID:e.2138.6956
SEQUENCE:3
DTSTAMP:20260423T223155Z
URL:https://business.seminolebusiness.org/events/details/free-event-coffee-cosmos-6956
END:VEVENT

END:VCALENDAR
