BEGIN:VCALENDAR
VERSION:2.0
PRODID:-//ChamberMaster//Event Calendar 2.0//EN
METHOD:PUBLISH
X-PUBLISHED-TTL:P3D
REFRESH-INTERVAL:P3D
CALSCALE:GREGORIAN
BEGIN:VEVENT
DTSTART:20190718T230000Z
DTEND:20190719T000000Z
X-MICROSOFT-CDO-ALLDAYEVENT:FALSE
SUMMARY:Free Food Label Workshop
DESCRIPTION:Free 1-hour Food Label Workshop - Thurs. July 18\, 7 - 8 PM\n\nPure Living Apt Community Room\n\n\n\nCome have fun as you and your children learn\n\nWhat's REALLY in your food\n\nHow to find Hidden Ingredients\n\nTo save Money and get More\n\nThe Food Games Manufacturers Play\n\n\n\nRefreshments provided
X-ALT-DESC;FMTTYPE=text/html:Free 1-hour Food Label Workshop - Thurs. July 18\, 7 - 8 PM<br />\nPure Living Apt Community Room<br />\n<br />\nCome have fun as you and your children learn<br />\nWhat&#39\;s REALLY in your food<br />\nHow to find Hidden Ingredients<br />\nTo save Money and get More<br />\nThe Food Games Manufacturers Play<br />\n<br />\nRefreshments provided
LOCATION:Pure Living Apt Community Room 740 Savory Place Upstairs (Across from Seminole College) Heathrow\, FL 32746
UID:e.2138.16236
SEQUENCE:3
DTSTAMP:20260422T045412Z
URL:https://business.seminolebusiness.org/events/details/free-food-label-workshop-16236
END:VEVENT

END:VCALENDAR
