BEGIN:VCALENDAR
VERSION:2.0
PRODID:-//ChamberMaster//Event Calendar 2.0//EN
METHOD:PUBLISH
X-PUBLISHED-TTL:P3D
REFRESH-INTERVAL:P3D
CALSCALE:GREGORIAN
BEGIN:VEVENT
DTSTART:20190514T200000Z
DTEND:20190514T230000Z
X-MICROSOFT-CDO-ALLDAYEVENT:FALSE
SUMMARY:Free Housing and Home Service Seminar and Free Private Concert with Riley Green!
DESCRIPTION:I really hope that you you will be able to join Cox Media Group for this insightful and informational workshop of the Home Services Industry in Central Florida.\n\nIt will be informative\, fun and includes HAPPY HOUR \,DINNER and a FREE CONCERT ??\n\nAll of the information is listed on the flyer below.\n\nPlease RSVP on the link below and let me know if you have any questions!! I really look forward to seeing you there! \n\n \n\nRSVP HERE:\n\nhttps://cox-media-group.landinglion.com/orlando-radio/
X-ALT-DESC;FMTTYPE=text/html:<span style="font-family: arial\,sans-serif\;">I really hope that you you will be able to join Cox Media Group for this insightful and informational workshop of the Home Services Industry in Central Florida.</span><br />\n<span style="font-family: arial\,sans-serif\;">It will be informative\, fun and includes <strong><u>HAPPY HOUR \,DINNER </u></strong>and a <strong><u>FREE CONCERT</u></strong> </span><span style="font-family: segoe ui emoji\,sans-serif\;">??</span><br />\n<span style="font-family: arial\,sans-serif\;">All of the information is listed on the flyer below.</span><br />\n<span style="font-family: arial\,sans-serif\;">Please RSVP on the link below and let me know if you have any questions!! I really look forward to seeing you there! </span><br />\n&nbsp\;<br />\n<strong><span style="font-family: arial\,sans-serif\;">RSVP HERE:</span></strong><br />\n<a href="https://cox-media-group.landinglion.com/orlando-radio/">https://cox-media-group.landinglion.com/orlando-radio/</a><br />\n&nbsp\;
LOCATION:Cowboys Orlando 1108 S Orange Blossom Trail Orlando\, Fl 32805
UID:e.2138.15168
SEQUENCE:3
DTSTAMP:20260422T081602Z
URL:https://business.seminolebusiness.org/events/details/free-housing-and-home-service-seminar-and-free-private-concert-with-riley-green-15168
END:VEVENT

END:VCALENDAR
