BEGIN:VCALENDAR
VERSION:2.0
PRODID:-//ChamberMaster//Event Calendar 2.0//EN
METHOD:PUBLISH
X-PUBLISHED-TTL:P3D
REFRESH-INTERVAL:P3D
CALSCALE:GREGORIAN
BEGIN:VEVENT
DTSTART:20160815T130000Z
DTEND:20160815T160000Z
X-MICROSOFT-CDO-ALLDAYEVENT:FALSE
SUMMARY:Free Joint Screenings\, Florida Hospital Sports Medicine and Rehab
DESCRIPTION:We're providing a variety of free screenings and lectures designed to make Oviedo 1 Healthy Community!  In 1 convenient area\, the Florida Hospital Network of Care offers primary care and specialty physicians\, urgent care\, imaging services and physical therapy\, providing an array of prevention\, diagnosis and treatments for the body\, mind and spirit.\n\nFree assessment by a licensed physical therapist evaluating an area of your body that is causing aches and pains. RSVP required.\n\nFor full details and to reserve a screening time\, visit FHEventsOviedo.com or call 407.200.2900.
X-ALT-DESC;FMTTYPE=text/html:We&#39\;re providing a variety of free screenings and lectures designed to make Oviedo 1 Healthy Community! &nbsp\;In 1 convenient area\, the Florida Hospital&nbsp\;Network of Care offers primary care and&nbsp\;specialty physicians\, urgent care\, imaging&nbsp\;services and physical therapy\, providing&nbsp\;an array of prevention\, diagnosis and&nbsp\;treatments for the body\, mind and spirit.<br />\nFree assessment by a licensed physical therapist evaluating an area of your body that is causing aches and pains. RSVP required.<br />\nFor full details and to reserve a screening time\, visit FHEventsOviedo.com or call 407.200.2900.
LOCATION:Oviedo YMCA
UID:e.2138.4796
SEQUENCE:3
DTSTAMP:20260425T194259Z
URL:https://business.seminolebusiness.org/events/details/free-joint-screenings-florida-hospital-sports-medicine-and-rehab-08-15-2016-4796
END:VEVENT

END:VCALENDAR
