BEGIN:VCALENDAR
VERSION:2.0
PRODID:-//ChamberMaster//Event Calendar 2.0//EN
METHOD:PUBLISH
X-PUBLISHED-TTL:P3D
REFRESH-INTERVAL:P3D
CALSCALE:GREGORIAN
BEGIN:VEVENT
DTSTART:20181019T154500Z
DTEND:20181019T171500Z
X-MICROSOFT-CDO-ALLDAYEVENT:FALSE
SUMMARY:Free Lunch and Tour
DESCRIPTION:Attend a free lunch and tour at this amazing nonprofit. Christian HELP has been serving the community for 26 years. The mission of preventing homelessness by helping folks find jobs has resulted in saving taxpayers over $300 million. If you are in business in the Central Florida area\, this is a cause worth advocating for to improve the economic environment in which you operate.
X-ALT-DESC;FMTTYPE=text/html:Attend a free lunch and tour at this amazing nonprofit. Christian HELP has been serving the community for 26 years. The mission of preventing homelessness by helping folks find jobs has resulted in saving taxpayers over $300 million. If you are in business in the Central Florida area\, this is a cause worth advocating for to improve the economic environment in which you operate.
LOCATION:Christian HELP 450 Seminola Boulevard Casselberry\, FL 32707
UID:e.2138.14760
SEQUENCE:3
DTSTAMP:20260424T022944Z
URL:https://business.seminolebusiness.org/events/details/free-lunch-and-tour-14760
END:VEVENT

END:VCALENDAR
