BEGIN:VCALENDAR
VERSION:2.0
PRODID:-//ChamberMaster//Event Calendar 2.0//EN
METHOD:PUBLISH
X-PUBLISHED-TTL:P3D
REFRESH-INTERVAL:P3D
CALSCALE:GREGORIAN
BEGIN:VEVENT
DTSTART:20170628T230000Z
DTEND:20170629T010000Z
X-MICROSOFT-CDO-ALLDAYEVENT:FALSE
SUMMARY:Free Personal Financial Workshops - Be Your Own Money Manager
DESCRIPTION:Join the Financial Education Revolution. The workshop is designed to help you strengthen your financial literacy and teach you how to take control of your personal finances. Explore a variety of financial topics such as investing\, debt management\, saving and growing your money\, retirement planning\, and much more. Take control of your financial future by participating in this nation-wide financial literacy campaign.\n\n \nWe need to change. We need understanding first.\n\nA new era of pro-activism and financial freedom must begin.
X-ALT-DESC;FMTTYPE=text/html:Join the Financial Education Revolution.&nbsp\;The workshop is designed to help you strengthen your financial literacy and teach you how to take control of your personal finances. Explore a variety of financial topics such as investing\, debt management\, saving and growing your money\, retirement planning\, and much more. Take control of your financial future by participating in this nation-wide financial literacy campaign.<br />\n&nbsp\;\n<div style="text-align: center\;"><strong>We need to change. We need understanding first.<br />\nA new era of pro-activism and financial freedom must begin.</strong></div>\n
LOCATION:WFG Lake Mary Financial Center 801 International Pkwy\, Suite 500 LaKe Mary\, FL 32746
UID:e.2138.6970
SEQUENCE:3
DTSTAMP:20260423T223621Z
URL:https://business.seminolebusiness.org/events/details/free-personal-financial-workshops-be-your-own-money-manager-06-28-2017-6970
END:VEVENT

END:VCALENDAR
