BEGIN:VCALENDAR
VERSION:2.0
PRODID:-//ChamberMaster//Event Calendar 2.0//EN
METHOD:PUBLISH
X-PUBLISHED-TTL:P3D
REFRESH-INTERVAL:P3D
CALSCALE:GREGORIAN
BEGIN:VEVENT
DTSTART:20250830T190000Z
DTEND:20250830T200000Z
X-MICROSOFT-CDO-ALLDAYEVENT:FALSE
SUMMARY:Free Virtual Will & Estate Planning Workshop
DESCRIPTION:Attend Virtually to Learn: The How\, The Why\, the When and what of creating your Estate Planning Documents\n\nYour Will\, Living Will\, Healthcare & Financial Power of Attorneys\n\nLearn How to get these documents\, in the best most affordable & expediant process.
X-ALT-DESC;FMTTYPE=text/html:Attend Virtually to Learn: The How\, The Why\, the When and what of creating your Estate Planning Documents<br />\nYour Will\, Living Will\, Healthcare &amp\; Financial Power of Attorneys<br />\nLearn How to get these documents\, in the best most affordable &amp\; expediant process.
LOCATION:Virtual Zoom link: www.WednesdayZoom.com Please contact Susan Joseph 407-491-3411 for the Passcode
UID:e.2138.37565
SEQUENCE:3
DTSTAMP:20260423T084928Z
URL:https://business.seminolebusiness.org/events/details/free-virtual-will-estate-planning-workshop-08-30-2025-37565
END:VEVENT

END:VCALENDAR
