BEGIN:VCALENDAR
VERSION:2.0
PRODID:-//ChamberMaster//Event Calendar 2.0//EN
METHOD:PUBLISH
X-PUBLISHED-TTL:P3D
REFRESH-INTERVAL:P3D
CALSCALE:GREGORIAN
BEGIN:VEVENT
DTSTART:20250810T201500Z
DTEND:20250810T210000Z
X-MICROSOFT-CDO-ALLDAYEVENT:FALSE
SUMMARY:Free Virtual Will Workshop
DESCRIPTION:Free Virtual Will Workshop -- August is National Will\n\nLet's Plan for the Future: Name your Children's Guardian\n\n                                         Set up your Power Of Attorney\n\n                                         Name your Inheritors\n\nLegalShield makes it easier\, simpler and more AFFORDABLE!\n\nThis is an educational event.
X-ALT-DESC;FMTTYPE=text/html:<span style="font-size:22px">Free Virtual Will Workshop -- August is National Will<br />\n<span style="font-size:18px">Let&#39\;s Plan for the Future: Name your Children&#39\;s Guardian<br />\n&nbsp\; &nbsp\; &nbsp\; &nbsp\; &nbsp\; &nbsp\; &nbsp\; &nbsp\; &nbsp\; &nbsp\; &nbsp\; &nbsp\; &nbsp\; &nbsp\; &nbsp\; &nbsp\; &nbsp\; &nbsp\; &nbsp\; &nbsp\; &nbsp\;Set up your Power Of Attorney<br />\n&nbsp\; &nbsp\; &nbsp\; &nbsp\; &nbsp\; &nbsp\; &nbsp\; &nbsp\; &nbsp\; &nbsp\; &nbsp\; &nbsp\; &nbsp\; &nbsp\; &nbsp\; &nbsp\; &nbsp\; &nbsp\; &nbsp\; &nbsp\; &nbsp\;Name your Inheritors<br />\nLegalShield makes it easier\, simpler and more AFFORDABLE!<br />\nThis is an educational event.</span></span>
LOCATION:This is a Virtual Event on Zoom My zoom link is www.SusanJosephZoom.com or Zoom.us Meeting ID 418 738 7428
UID:e.2138.37864
SEQUENCE:3
DTSTAMP:20260423T091026Z
URL:https://business.seminolebusiness.org/events/details/free-virtual-will-workshop-08-10-2025-37864
END:VEVENT

END:VCALENDAR
