BEGIN:VCALENDAR
VERSION:2.0
PRODID:-//ChamberMaster//Event Calendar 2.0//EN
METHOD:PUBLISH
X-PUBLISHED-TTL:P3D
REFRESH-INTERVAL:P3D
CALSCALE:GREGORIAN
BEGIN:VEVENT
DTSTART:20231020T160000Z
DTEND:20231020T163000Z
X-MICROSOFT-CDO-ALLDAYEVENT:FALSE
SUMMARY:Free webinar: Power of the Inbox: Tips & Tricks for Successful Email Marketing
DESCRIPTION:What is the first impression you give when they see you in their email inbox? And when they see you there\, what do they do? During this session you will learn how to go step-by-step through the keys to effective email marketing.\n\n\n\nLed by Ken Countess\, a professional coach for business owners and entrepreneurs\, this is a presentation all small business owners should attend.  Register today!\n\nHosted by Alignable.
X-ALT-DESC;FMTTYPE=text/html:<p><span style="font-size:14px">What is the first impression you give when they see you in their email inbox? And when they see you there\, what do they do? During this session you will learn how to go step-by-step through the keys to effective email marketing.<br />\n<br />\nLed by Ken Countess\, a professional coach for business owners and entrepreneurs\, this is a presentation all small business owners should attend.&nbsp\; Register today!</span></p>\n\n<p><span style="font-size:14px">Hosted by Alignable.&nbsp\;</span></p>\n
LOCATION:Register for this webinar here: https://www.kenisemail.com/events
UID:e.2138.33135
SEQUENCE:3
DTSTAMP:20260424T233509Z
URL:https://business.seminolebusiness.org/events/details/free-webinar-power-of-the-inbox-tips-tricks-for-successful-email-marketing-10-20-2023-33135
END:VEVENT

END:VCALENDAR
