BEGIN:VCALENDAR
VERSION:2.0
PRODID:-//ChamberMaster//Event Calendar 2.0//EN
METHOD:PUBLISH
X-PUBLISHED-TTL:P3D
REFRESH-INTERVAL:P3D
CALSCALE:GREGORIAN
BEGIN:VEVENT
DTSTART:20190722T213000Z
DTEND:20190722T230000Z
X-MICROSOFT-CDO-ALLDAYEVENT:FALSE
SUMMARY:Free Will Workshop
DESCRIPTION:Attend this Free Will Workshop & Write your last "Love Letters" to your family.\n \n\n\nWE make this simple. You will receive our Will Questionnaire\, and have the opportunity to fill it out. \n\n \n\nWe will take away some of the barriers people put in place and keeping 70% of people from getting this done.\n\n\n\nLearn  1. Why people procrastinate\n\n           2. What is needed to create your Will & Living Will\n\n           3. Who needs a Will?\n\n           4. What about Trusts? If I have one do I still need a Will? \n\n\n\nJoin us and take the big step to getting your Estate Planning Completed!
X-ALT-DESC;FMTTYPE=text/html:<span style="font-size:16px"><span style="color:#0000CD"><strong>Attend this Free Will Workshop &amp\;&nbsp\;<span style="background-color:rgb(255\, 255\, 255)\; font-family:arial\,helvetica\,sans-serif">Write your last &quot\;Love Letters&quot\; to your family.</span></strong></span></span>\n<div>&nbsp\;</div>\n\n<div>\n<div>WE make this simple. You will receive our Will Questionnaire\, and have the opportunity to fill it out.&nbsp\;</div>\n\n<div>&nbsp\;</div>\n\n<div>We will take away some of the barriers people put in place and keeping 70% of people from getting this done.</div>\n</div>\n<br />\nLearn&nbsp\; 1. Why people procrastinate<br />\n&nbsp\; &nbsp\; &nbsp\; &nbsp\; &nbsp\; &nbsp\;2. What is needed to create your Will &amp\; Living Will<br />\n&nbsp\; &nbsp\; &nbsp\; &nbsp\; &nbsp\; &nbsp\;3. Who needs a Will?<br />\n&nbsp\; &nbsp\; &nbsp\; &nbsp\; &nbsp\; &nbsp\;4. What about Trusts? If I have one do I still need a Will?&nbsp\;<br />\n<br />\nJoin us and take the big step to getting your Estate Planning Completed!
LOCATION:Rasmussen College 385 Douglas Ave Ste 1000 Altamonte Springs Fl\, 32714
UID:e.2138.16231
SEQUENCE:3
DTSTAMP:20260422T045335Z
URL:https://business.seminolebusiness.org/events/details/free-will-workshop-07-22-2019-16231
END:VEVENT

END:VCALENDAR
