BEGIN:VCALENDAR
VERSION:2.0
PRODID:-//ChamberMaster//Event Calendar 2.0//EN
METHOD:PUBLISH
X-PUBLISHED-TTL:P3D
REFRESH-INTERVAL:P3D
CALSCALE:GREGORIAN
BEGIN:VEVENT
DTSTART:20190624T213000Z
DTEND:20190624T230000Z
X-MICROSOFT-CDO-ALLDAYEVENT:FALSE
SUMMARY:Free Will Workshop
DESCRIPTION:Free Will Workshop\n\n\n\nLearn: Why 70% of People do not have a Valid Will in place?\n\n            Do I need a Living Will? \n\n            Where to Begin? What information do you need?\n\n            Learn How LegalShield does Estate Planning for a fraction of tradition cost!\n\n\n\nGet It Started\, Then Get It DONE!\n\nStart your Will Questionnaire during the Workshop\, complete it\, and get it your Attorney to create/update!\n\n\n\nCall or Text to Reserve Your Seat: Susan Joseph 407-491-3411
X-ALT-DESC;FMTTYPE=text/html:<span style="color:#0000CD"><span style="font-size:26px"><strong>Free Will Workshop</strong></span></span><br />\n<br />\n<span style="font-size:18px"><strong>Learn: Why 70% of People do not have a Valid Will in place?<br />\n&nbsp\; &nbsp\; &nbsp\; &nbsp\; &nbsp\; &nbsp\; Do I need a Living Will?&nbsp\;<br />\n&nbsp\; &nbsp\; &nbsp\; &nbsp\; &nbsp\; &nbsp\; Where to Begin? What information do you need?<br />\n&nbsp\; &nbsp\; &nbsp\; &nbsp\; &nbsp\; &nbsp\; Learn How LegalShield does Estate Planning for a fraction of tradition cost!</strong></span><br />\n<br />\n<span style="color:#0000CD"><span style="font-size:20px"><strong>Get It Started\, Then Get It DONE!<br />\nStart your Will Questionnaire during the Workshop\, complete it\, and get it your Attorney to create/update!<br />\n<br />\nCall or Text to Reserve Your Seat: Susan Joseph 407-491-3411</strong></span></span><br />\n<br />\n<br />\n&nbsp\;
LOCATION:Join us at 280 Wekiva Springs Road Suite 2050 Longwood\, Florida
UID:e.2138.16219
SEQUENCE:3
DTSTAMP:20260422T062924Z
URL:https://business.seminolebusiness.org/events/details/free-will-workshop-16219
END:VEVENT

END:VCALENDAR
