BEGIN:VCALENDAR
VERSION:2.0
PRODID:-//ChamberMaster//Event Calendar 2.0//EN
METHOD:PUBLISH
X-PUBLISHED-TTL:P3D
REFRESH-INTERVAL:P3D
CALSCALE:GREGORIAN
BEGIN:VEVENT
DTSTART;VALUE=DATE:20170323
DTEND;VALUE=DATE:20170324
TRANSP:TRANSPARENT
X-MICROSOFT-CDO-ALLDAYEVENT:TRUE
SUMMARY:Freedom From Anxiety Live Online MasterClass
DESCRIPTION:Discover The Big Blocks That Keep Your Anxious\, Overwhelmed And Stressed\,\,\,Preventing You From The Joy \, Inner Peace You Desire
X-ALT-DESC;FMTTYPE=text/html:Discover The Big Blocks That Keep Your Anxious\, Overwhelmed And Stressed\,\,\,Preventing You From The Joy \, Inner Peace You Desire
LOCATION:Online: Register with this link https://ruthstern.leadpages.co/freedom-from-anxiety/
UID:e.2138.6687
SEQUENCE:3
DTSTAMP:20260423T175004Z
URL:https://business.seminolebusiness.org/events/details/freedom-from-anxiety-live-online-masterclass-6687
END:VEVENT

END:VCALENDAR
