BEGIN:VCALENDAR
VERSION:2.0
PRODID:-//ChamberMaster//Event Calendar 2.0//EN
METHOD:PUBLISH
X-PUBLISHED-TTL:P3D
REFRESH-INTERVAL:P3D
CALSCALE:GREGORIAN
BEGIN:VEVENT
DTSTART:20190531T230000Z
DTEND:20190601T003000Z
X-MICROSOFT-CDO-ALLDAYEVENT:FALSE
SUMMARY:Friends Trivia
DESCRIPTION:We're going back to Central Perk once more for a fun night of Friends trivia. As always\, we will have Friends themed food and drinks and fun trivia questions from all 10 seasons.
X-ALT-DESC;FMTTYPE=text/html:<span style="color: rgb(29\, 33\, 41)\; font-size: 14px\;">We&#39\;re going back to Central Perk once more for a fun night of Friends trivia. As always\, we will have Friends themed food and drinks and fun trivia questions from all 10 seasons. </span>
LOCATION:Boston Coffeehosue Altamonte Springs 851 S SR 434 Altamonte Springs FL 32714
UID:e.2138.15159
SEQUENCE:3
DTSTAMP:20260422T081015Z
URL:https://business.seminolebusiness.org/events/details/friends-trivia-15159
END:VEVENT

END:VCALENDAR
