BEGIN:VCALENDAR
VERSION:2.0
PRODID:-//ChamberMaster//Event Calendar 2.0//EN
METHOD:PUBLISH
X-PUBLISHED-TTL:P3D
REFRESH-INTERVAL:P3D
CALSCALE:GREGORIAN
BEGIN:VEVENT
DTSTART:20231024T133000Z
DTEND:20231024T160000Z
X-MICROSOFT-CDO-ALLDAYEVENT:FALSE
SUMMARY:Funding 101: SBA Lending Event
DESCRIPTION:Dear Small Business Owners and friends of the Center for Business Development: \n\n \n\nAre you looking to grow and thrive in today's competitive market? Don't miss out on our upcoming educational event focused on SBA Lending.\n\n \n\nJoin us for an informative in-person session where you'll gain valuable insights into securing Small Business Administration (SBA) loans to fuel your business's growth. Attached is a flyer with more details about the event.\n\n \n\nHere's what you can expect:\n\n \n\n? Expert Guidance: Learn from two industry experts and SBA loan specialists who will demystify the loan application process.\n\n? Funding Options: Discover the various SBA loan programs available and find the one that suits your business needs.\n\n? Success Stories: Hear inspiring success stories from fellow entrepreneurs who have successfully used SBA loans to expand their businesses.\n\n? Q&A Session: Get your burning questions answered by our panel of experts.\n\n \n\nDon't let financial barriers hold your business back. With the right knowledge and resources\, you can achieve your business goals! \n\nReserve your spot today by visiting sem.st/cbd_events\n\n\nSeats are limited\, so act fast! \n\n\n\n\nInvite a fellow small business owner who needs this valuable information\, and let's support each other in our entrepreneurial journeys. \n\n\n\nWe can't wait to see you there! \n\n \n\nP.S. This is an in-person event and registration is required.
X-ALT-DESC;FMTTYPE=text/html:<div><span style="color:rgba(0\, 0\, 0\, 0.9) !important\; font-family:inherit\; font-size:inherit">Dear Small Business Owners and friends of the Center for Business Development:&nbsp\;</span></div>\n\n<div>&nbsp\;</div>\n\n<div><span style="color:rgba(0\, 0\, 0\, 0.9) !important\; font-family:inherit\; font-size:inherit">Are you looking to grow and thrive in today&#39\;s competitive market? Don&#39\;t miss out on our upcoming educational event focused on&nbsp\;</span><span style="font-family:inherit\; font-size:inherit"><span style="color:inherit">SBA</span></span><span style="color:rgba(0\, 0\, 0\, 0.9) !important\; font-family:inherit\; font-size:inherit">&nbsp\;<span style="color:inherit">Lending.</span></span><br />\n&nbsp\;</div>\n\n<div><span style="color:rgba(0\, 0\, 0\, 0.9) !important\; font-family:inherit\; font-size:inherit">Join us for an informative in-person session where you&#39\;ll gain valuable insights into securing Small Business Administration (</span><span style="font-family:inherit\; font-size:inherit"><span style="color:inherit">SBA</span></span><span style="color:rgba(0\, 0\, 0\, 0.9) !important\; font-family:inherit\; font-size:inherit">) loans to fuel your business&#39\;s growth. Attached is a flyer with more details about the event.</span></div>\n\n<div>&nbsp\;</div>\n\n<div><span style="color:rgba(0\, 0\, 0\, 0.9) !important\; font-family:inherit\; font-size:inherit">Here&#39\;s what you can expect:</span></div>\n\n<div>&nbsp\;</div>\n\n<div><span style="color:rgba(0\, 0\, 0\, 0.9) !important\; font-family:inherit\; font-size:inherit">? Expert Guidance: Learn from two industry experts and&nbsp\;</span><span style="font-family:inherit\; font-size:inherit"><span style="color:inherit">SBA</span></span><span style="color:rgba(0\, 0\, 0\, 0.9) !important\; font-family:inherit\; font-size:inherit">&nbsp\;loan specialists who will demystify the loan application process.</span></div>\n\n<div><span style="color:rgba(0\, 0\, 0\, 0.9) !important\; font-family:inherit\; font-size:inherit">? Funding Options: Discover the various&nbsp\;</span><span style="font-family:inherit\; font-size:inherit"><span style="color:inherit">SBA</span></span><span style="color:rgba(0\, 0\, 0\, 0.9) !important\; font-family:inherit\; font-size:inherit">&nbsp\;loan programs available and find the one that suits your business needs.</span><br />\n<span style="color:rgba(0\, 0\, 0\, 0.9) !important\; font-family:inherit\; font-size:inherit">? Success Stories: Hear inspiring success stories from fellow entrepreneurs who have successfully used&nbsp\;</span><span style="font-family:inherit\; font-size:inherit"><span style="color:inherit">SBA</span></span><span style="color:rgba(0\, 0\, 0\, 0.9) !important\; font-family:inherit\; font-size:inherit">&nbsp\;loans to expand their businesses.</span><br />\n<span style="color:rgba(0\, 0\, 0\, 0.9) !important\; font-family:inherit\; font-size:inherit">? Q&amp\;A Session: Get your burning questions answered by our panel of experts.</span><br />\n&nbsp\;</div>\n\n<div><span style="color:rgba(0\, 0\, 0\, 0.9) !important\; font-family:inherit\; font-size:inherit">Don&#39\;t let financial barriers hold your business back. With the right knowledge and resources\, you can achieve your business goals!&nbsp\;</span></div>\n\n<div><span style="color:rgba(0\, 0\, 0\, 0.9) !important\; font-family:inherit\; font-size:inherit">Reserve your spot today by visiting&nbsp\;</span><span style="color:rgba(0\, 0\, 0\, 0.9) !important\; font-family:source sans pro\,helvetica neue\,helvetica\,arial\,sans-serif\,serif\,emojifont\; font-size:16pt"><a class="x_OWAAutoLink" href="http://sem.st/cbd_events" id="LPlnkOWAbce9c66b-f7ca-0ab3-fdc5-cc1aa4b4a6a8" rel="noopener noreferrer" style="border: 0px\; font: inherit\; margin: 0px\; padding: 0px\; vertical-align: baseline\; text-decoration-line: none\; scroll-behavior: auto !important\;" target="_blank">sem.st/cbd_events</a></span></div>\n\n<div>\n<div><span style="color:rgba(0\, 0\, 0\, 0.9)\; font-family:inherit\; font-size:inherit">Seats are limited\, so act fast!&nbsp\;</span></div>\n</div>\n\n<div><br />\n<span style="color:rgba(0\, 0\, 0\, 0.9)\; font-family:inherit\; font-size:inherit">Invite a fellow small business owner who needs this valuable information\, and let&#39\;s support each other in our entrepreneurial journeys.&nbsp\;</span></div>\n\n<div><br />\n<span style="color:rgba(0\, 0\, 0\, 0.9) !important\; font-family:inherit\; font-size:inherit">We can&#39\;t wait to see you there!&nbsp\;</span></div>\n\n<div>&nbsp\;</div>\n\n<div><span style="color:inherit\; font-family:inherit\; font-size:inherit">P.S. This is an in-person event and registration is required.&nbsp\;</span></div>\n\n<div>&nbsp\;</div>\n
LOCATION:Sanford/Lake Mary Campus of Seminole State College\, Student Center\, Room 173 100 Weldon Blvd.\, Sanford\, FL 32771
UID:e.2138.33154
SEQUENCE:3
DTSTAMP:20260424T233242Z
URL:https://business.seminolebusiness.org/events/details/funding-101-sba-lending-event-33154
END:VEVENT

END:VCALENDAR
