BEGIN:VCALENDAR
VERSION:2.0
PRODID:-//ChamberMaster//Event Calendar 2.0//EN
METHOD:PUBLISH
X-PUBLISHED-TTL:P3D
REFRESH-INTERVAL:P3D
CALSCALE:GREGORIAN
BEGIN:VEVENT
DTSTART:20180315T124500Z
DTEND:20180315T170000Z
X-MICROSOFT-CDO-ALLDAYEVENT:FALSE
SUMMARY:Galileo School for Gifted Learning: Fun Run
DESCRIPTION:What is Fun Run?\n\nA fitness event where the entire school runs to raise funds!  Our students go out into the community and receive pledges (per lap) or flat donations on the weeks leading up to Fun Run.  Students receive incentives from the school and parents are welcomed to join in the fun.  The week of the event is an exciting one at Galileo as special guests arrive each morning to motivate our students for the big finale.  \n\n \n\nHow can I help?\n\nThere are many ways you can help join in the fun:\n\n\n	 Consider advertising your business on our Fun Run Shirt and get some "plugs" in our newsletter and on our website in return for your contribution!  See the attached Fun Run Sponsor form for details.\n	Donate Today: https://donate.galileogiftedschool.org/campaign/galileo-fun-run-2018/c167386
X-ALT-DESC;FMTTYPE=text/html:<div><span style="color: rgb(153\, 0\, 255)\; font-family: comic sans ms\,sans-serif\; font-size: large\;">What is Fun Run?</span><br />\n<span style="color: rgb(224\, 102\, 102)\; font-family: comic sans ms\,sans-serif\; font-size: 12.8px\;">A fitness event where the entire school runs to raise funds!&nbsp\; Our students go out into the community and receive pledges (per lap) or flat donations on the weeks leading up to Fun Run.&nbsp\; Students receive incentives from the school and parents are welcomed to join in the fun.&nbsp\; The week of the event is an exciting one at Galileo as special guests arrive each morning to motivate our students for the big finale.&nbsp\;&nbsp\;</span></div>\n\n<div>&nbsp\;</div>\n\n<div><span style="font-size: 12.8px\;"><span style="color: rgb(153\, 0\, 255)\; font-size: large\;">How can I help?</span><br />\n<span style="font-size: 12.8px\;">There are many ways you can help join in the fun:</span></span>\n\n<ul>\n	<li><span style="font-size: 12.8px\;">&nbsp\;Consider advertising your business on our Fun Run Shirt and get some &ldquo\;plugs&rdquo\; in our newsletter and on our website in return for your contribution!&nbsp\; See the attached Fun Run Sponsor form for details.</span></li>\n	<li><span style="font-size: 12.8px\;"><span style="font-size: 12.8px\;">Donate Today:&nbsp\;</span><a href="https://donate.galileogiftedschool.org/campaign/galileo-fun-run-2018/c167386" style="color: rgb(17\, 85\, 204)\; font-size: 12.8px\;" target="_blank">https://donate.galileogiftedschool.org/campaign/galileo-fun-run-2018/c167386</a>&nbsp\;</span></li>\n</ul>\n</div>\n
LOCATION:Where? In the back field of Galileo School for Gifted Learning 3900 East State Rd. 46\, Sanford\, FL 32771 **Attendees must be registered Dividend volunteers through Seminole County Public School
UID:e.2138.8792
SEQUENCE:3
DTSTAMP:20260424T130220Z
URL:https://business.seminolebusiness.org/events/details/galileo-school-for-gifted-learning-fun-run-8792
END:VEVENT

END:VCALENDAR
